FILENAME: O4511054.SWS.829927.tif
QUADRANGLE_NAME: IRON MOUNTAIN
QUADRANT: SW
WEST_LONGITUDE: -110 22 30.00000
EAST_LONGITUDE: -110 18 45.00000
NORTH_LATITUDE: 45 11 15.00000
SOUTH_LATITUDE: 45 7 30.00000
PRODUCTION_DATE: 1998 1 21
RASTER_ORDER: LEFT_RIGHT/TOP_BOTTOM
BAND_ORGANIZATION: SINGLE FILE
BAND_CONTENT: BLACK&WHITE
BAND_CONTENT: UNDEFINED
BAND_CONTENT: UNDEFINED
BITS_PER_PIXEL: 8
SAMPLES_AND_LINES: 5631 7593
HORIZONTAL_DATUM: NAD83
HORIZONTAL_COORDINATE_SYSTEM: UTM
COORDINATE_ZONE: 12
HORIZONTAL_UNITS: METERS
HORIZONTAL_RESOLUTION: 1.00000
SECONDARY_HORIZONTAL_DATUM: NAD27
XY_ORIGIN: 548738.00000 5004310.00000
SECONDARY_XY_ORIGIN: 548798.54100 5004100.02000
NATION: US
NATION: "SCIENCE
STATE: MT
NW_QUAD_CORNER_XY: 549098.63000 5003969.59600
NE_QUAD_CORNER_XY: 554008.49200 5004009.49300
SE_QUAD_CORNERY_XY: 554067.56600 4997066.34600
SW_QUAD_CORNER_XY: 549152.33300 4997026.44900
SECONDARY_NW_QUAD_XY: 549100.08500 5003752.24800
SECONDARY_NE_QUAD_XY: 554010.09300 5003792.14600
SECONDARY_SE_QUAD_XY: 554069.16600 4996849.05300
SECONDARY_SW_QUAD_XY: 549153.78800 4996809.15500
RMSE_XY: 2.40000
IMAGE_SOURCE: BLACK AND WHITE FILM
SOURCE_IMAGE_ID: NAPP 3857 290
SOURCE_IMAGE_DATE: 1991 08 30
SOURCE_IMAGE_ID: NAPP 7824 074
SOURCE_IMAGE_DATE: 1994 08 25
SOURCE_IMAGE_ID: NAPP 3857 289
SOURCE_IMAGE_DATE: 1991 08 30
SOURCE_IMAGE_ID: NAPP 7829 151
SOURCE_IMAGE_DATE: 1994 09 05
SOURCE_IMAGE_ID: NAPP 3857 259
SOURCE_IMAGE_DATE: 1991 08 30
SOURCE_DEM_DATE: 1997 01 01
AGENCY: WESTERN MAPPING CENTER (WMC)
PRODUCER: UNDEFINED
PRODUCTION_SYSTEM: GIS/MAGIC
COMPRESSION: UNDEFINED
STANDARD_VERSION: 1996 12
METADATA_DATE: 1998 01 21
DATA_FILE_SIZE: 42761814
BYTE_COUNT: 5631
