FILENAME: O4511054.NES.829924.tif
QUADRANGLE_NAME: IRON MOUNTAIN
QUADRANT: NE
WEST_LONGITUDE: -110 18 45.00000
EAST_LONGITUDE: -110 15 0.00000
NORTH_LATITUDE: 45 15 0.00000
SOUTH_LATITUDE: 45 11 15.00000
PRODUCTION_DATE: 1998 1 21
RASTER_ORDER: LEFT_RIGHT/TOP_BOTTOM
BAND_ORGANIZATION: SINGLE FILE
BAND_CONTENT: BLACK&WHITE
BAND_CONTENT: UNDEFINED
BAND_CONTENT: UNDEFINED
BITS_PER_PIXEL: 8
SAMPLES_AND_LINES: 5631 7597
HORIZONTAL_DATUM: NAD83
HORIZONTAL_COORDINATE_SYSTEM: UTM
COORDINATE_ZONE: 12
HORIZONTAL_UNITS: METERS
HORIZONTAL_RESOLUTION: 1.00000
SECONDARY_HORIZONTAL_DATUM: NAD27
XY_ORIGIN: 553589.00000 5011297.00000
SECONDARY_XY_ORIGIN: 553649.39900 5011087.00200
NATION: US
NATION: "SCIENCE
STATE: MT
NW_QUAD_CORNER_XY: 553949.35400 5010952.71500
NE_QUAD_CORNER_XY: 558853.83800 5010996.41100
SE_QUAD_CORNERY_XY: 558918.35400 5004053.19000
SW_QUAD_CORNER_XY: 554008.49200 5004009.49300
SECONDARY_NW_QUAD_XY: 553950.95500 5010735.31500
SECONDARY_NE_QUAD_XY: 558855.58500 5010779.01300
SECONDARY_SE_QUAD_XY: 558920.10000 5003835.84400
SECONDARY_SW_QUAD_XY: 554010.09300 5003792.14600
RMSE_XY: 5.10000
IMAGE_SOURCE: BLACK AND WHITE FILM
SOURCE_IMAGE_ID: NAPP 3857 261
SOURCE_IMAGE_DATE: 1991 08 30
SOURCE_IMAGE_ID: NAPP 3857 259
SOURCE_IMAGE_DATE: 1991 08 30
SOURCE_IMAGE_ID: NAPP 3857 260
SOURCE_IMAGE_DATE: 1991 08 30
SOURCE_IMAGE_ID: NAPP 3857 262
SOURCE_IMAGE_DATE: 1991 08 30
SOURCE_IMAGE_ID: NAPP 3857 238
SOURCE_IMAGE_DATE: 1991 08 30
SOURCE_DEM_DATE: 1997 01 01
AGENCY: WESTERN MAPPING CENTER (WMC)
PRODUCER: UNDEFINED
PRODUCTION_SYSTEM: GIS/MAGIC
COMPRESSION: UNDEFINED
STANDARD_VERSION: 1996 12
METADATA_DATE: 1998 01 21
DATA_FILE_SIZE: 42784338
BYTE_COUNT: 5631
