FILENAME: O4511055.NES.831257.tif
QUADRANGLE_NAME: HAYSTACK PEAK
QUADRANT: NE
WEST_LONGITUDE: -110 11 15.00000
EAST_LONGITUDE: -110 7 30.00000
NORTH_LATITUDE: 45 15 0.00000
SOUTH_LATITUDE: 45 11 15.00000
PRODUCTION_DATE: 1998 1 14
RASTER_ORDER: LEFT_RIGHT/TOP_BOTTOM
BAND_ORGANIZATION: SINGLE FILE
BAND_CONTENT: BLACK&WHITE
BAND_CONTENT: UNDEFINED
BAND_CONTENT: UNDEFINED
BITS_PER_PIXEL: 8
SAMPLES_AND_LINES: 5642 7605
HORIZONTAL_DATUM: NAD83
HORIZONTAL_COORDINATE_SYSTEM: UTM
COORDINATE_ZONE: 12
HORIZONTAL_UNITS: METERS
HORIZONTAL_RESOLUTION: 1.00000
SECONDARY_HORIZONTAL_DATUM: NAD27
XY_ORIGIN: 563398.00000 5011396.00000
SECONDARY_XY_ORIGIN: 563458.31100 5011186.04600
NATION: US
NATION: "SCIENCE
STATE: MT
NW_QUAD_CORNER_XY: 563758.32300 5011043.90700
NE_QUAD_CORNER_XY: 568662.80600 5011095.20400
SE_QUAD_CORNERY_XY: 568738.07600 5004151.98400
SW_QUAD_CORNER_XY: 563828.21500 5004100.68700
SECONDARY_NW_QUAD_XY: 563760.21500 5010826.51000
SECONDARY_NE_QUAD_XY: 568664.84400 5010877.80800
SECONDARY_SE_QUAD_XY: 568740.11300 5003934.64100
SECONDARY_SW_QUAD_XY: 563830.10600 5003883.34200
RMSE_XY: 2.80000
IMAGE_SOURCE: BLACK AND WHITE FILM
SOURCE_IMAGE_ID: NAPP 3857 212
SOURCE_IMAGE_DATE: 1991 08 30
SOURCE_IMAGE_ID: NAPP 3857 236
SOURCE_IMAGE_DATE: 1991 08 30
SOURCE_IMAGE_ID: NAPP 3857 211
SOURCE_IMAGE_DATE: 1991 08 30
SOURCE_IMAGE_ID: NAPP 3857 213
SOURCE_IMAGE_DATE: 1991 08 30
SOURCE_DEM_DATE: 1997 01 01
AGENCY: WESTERN MAPPING CENTER (WMC)
PRODUCER: UNDEFINED
PRODUCTION_SYSTEM: GIS/MAGIC
COMPRESSION: UNDEFINED
STANDARD_VERSION: 1996 12
METADATA_DATE: 1998 01 15
DATA_FILE_SIZE: 42913052
BYTE_COUNT: 5642
