FILENAME: O4511056.SWS.831380.tif
QUADRANGLE_NAME: PINNACLE MOUNTAIN
QUADRANT: SW
WEST_LONGITUDE: -110 7 30.00000
EAST_LONGITUDE: -110 3 45.00000
NORTH_LATITUDE: 45 11 15.00000
SOUTH_LATITUDE: 45 7 30.00000
PRODUCTION_DATE: 1998 1 14
RASTER_ORDER: LEFT_RIGHT/TOP_BOTTOM
BAND_ORGANIZATION: SINGLE FILE
BAND_CONTENT: BLACK&WHITE
BAND_CONTENT: UNDEFINED
BAND_CONTENT: UNDEFINED
BITS_PER_PIXEL: 8
SAMPLES_AND_LINES: 5652 7609
HORIZONTAL_DATUM: NAD83
HORIZONTAL_COORDINATE_SYSTEM: UTM
COORDINATE_ZONE: 12
HORIZONTAL_UNITS: METERS
HORIZONTAL_RESOLUTION: 1.00000
SECONDARY_HORIZONTAL_DATUM: NAD27
XY_ORIGIN: 568378.00000 5004508.00000
SECONDARY_XY_ORIGIN: 568438.37400 5004298.09700
NATION: US
NATION: "SCIENCE
STATE: MT
NW_QUAD_CORNER_XY: 568738.07600 5004151.98400
NE_QUAD_CORNER_XY: 573647.93600 5004207.08100
SE_QUAD_CORNERY_XY: 573728.49400 4997263.93600
SW_QUAD_CORNER_XY: 568813.26200 4997208.83800
SECONDARY_NW_QUAD_XY: 568740.11300 5003934.64100
SECONDARY_NE_QUAD_XY: 573650.11900 5003989.74000
SECONDARY_SE_QUAD_XY: 573730.67600 4997046.64900
SECONDARY_SW_QUAD_XY: 568815.29900 4996991.54900
RMSE_XY: 1.90000
IMAGE_SOURCE: BLACK AND WHITE FILM
SOURCE_IMAGE_ID: NAPP 3857 187
SOURCE_IMAGE_DATE: 1991 08 30
SOURCE_IMAGE_ID: NAPP 7829 062
SOURCE_IMAGE_DATE: 1994 09 05
SOURCE_IMAGE_ID: NAPP 3857 186
SOURCE_IMAGE_DATE: 1991 08 30
SOURCE_IMAGE_ID: NAPP 3857 160
SOURCE_IMAGE_DATE: 1991 08 30
SOURCE_DEM_DATE: 1997 01 01
AGENCY: WESTERN MAPPING CENTER (WMC)
PRODUCER: UNDEFINED
PRODUCTION_SYSTEM: GIS/MAGIC
COMPRESSION: UNDEFINED
STANDARD_VERSION: 1996 12
METADATA_DATE: 1998 01 15
DATA_FILE_SIZE: 43011720
BYTE_COUNT: 5652
