FILENAME: O4511056.SES.831378.tif
QUADRANGLE_NAME: PINNACLE MOUNTAIN
QUADRANT: SE
WEST_LONGITUDE: -110 3 45.00000
EAST_LONGITUDE: -110 0 0.00000
NORTH_LATITUDE: 45 11 15.00000
SOUTH_LATITUDE: 45 7 30.00000
PRODUCTION_DATE: 1998 1 14
RASTER_ORDER: LEFT_RIGHT/TOP_BOTTOM
BAND_ORGANIZATION: SINGLE FILE
BAND_CONTENT: BLACK&WHITE
BAND_CONTENT: UNDEFINED
BAND_CONTENT: UNDEFINED
BITS_PER_PIXEL: 8
SAMPLES_AND_LINES: 5657 7612
HORIZONTAL_DATUM: NAD83
HORIZONTAL_COORDINATE_SYSTEM: UTM
COORDINATE_ZONE: 12
HORIZONTAL_UNITS: METERS
HORIZONTAL_RESOLUTION: 1.00000
SECONDARY_HORIZONTAL_DATUM: NAD27
XY_ORIGIN: 573288.00000 5004566.00000
SECONDARY_XY_ORIGIN: 573348.35200 5004356.10200
NATION: US
NATION: "SCIENCE
STATE: MT
NW_QUAD_CORNER_XY: 573647.93600 5004207.08100
NE_QUAD_CORNER_XY: 578557.79600 5004265.97900
SE_QUAD_CORNERY_XY: 578643.72600 4997322.83500
SW_QUAD_CORNER_XY: 573728.49400 4997263.93600
SECONDARY_NW_QUAD_XY: 573650.11900 5003989.74000
SECONDARY_NE_QUAD_XY: 578560.12400 5004048.64000
SECONDARY_SE_QUAD_XY: 578646.05300 4997105.54900
SECONDARY_SW_QUAD_XY: 573730.67600 4997046.64900
RMSE_XY: 2.90000
IMAGE_SOURCE: BLACK AND WHITE FILM
SOURCE_IMAGE_ID: NAPP 3857 159
SOURCE_IMAGE_DATE: 1991 08 30
SOURCE_IMAGE_ID: NAPP 3857 187
SOURCE_IMAGE_DATE: 1991 08 30
SOURCE_IMAGE_ID: NAPP 7829 104
SOURCE_IMAGE_DATE: 1994 09 05
SOURCE_IMAGE_ID: NAPP 3857 160
SOURCE_IMAGE_DATE: 1991 08 30
SOURCE_IMAGE_ID: NAPP 3832 059
SOURCE_IMAGE_DATE: 1992 09 22
SOURCE_DEM_DATE: 1997 01 01
AGENCY: WESTERN MAPPING CENTER (WMC)
PRODUCER: UNDEFINED
PRODUCTION_SYSTEM: GIS/MAGIC
COMPRESSION: UNDEFINED
STANDARD_VERSION: 1996 12
METADATA_DATE: 1998 01 15
DATA_FILE_SIZE: 43066741
BYTE_COUNT: 5657
