FILENAME: O4511058.SES.830024.tif
QUADRANGLE_NAME: ELECTRIC PEAK
QUADRANT: SE
WEST_LONGITUDE: -110 48 45.00000
EAST_LONGITUDE: -110 45 0.00000
NORTH_LATITUDE: 45 3 45.00000
SOUTH_LATITUDE: 45 0 0.00000
PRODUCTION_DATE: 1997 12 4
RASTER_ORDER: LEFT_RIGHT/TOP_BOTTOM
BAND_ORGANIZATION: SINGLE FILE
BAND_CONTENT: BLACK&WHITE
BAND_CONTENT: UNDEFINED
BAND_CONTENT: UNDEFINED
BITS_PER_PIXEL: 8
SAMPLES_AND_LINES: 5605 7566
HORIZONTAL_DATUM: NAD83
HORIZONTAL_COORDINATE_SYSTEM: UTM
COORDINATE_ZONE: 12
HORIZONTAL_UNITS: METERS
HORIZONTAL_RESOLUTION: 1.00000
SECONDARY_HORIZONTAL_DATUM: NAD27
XY_ORIGIN: 514400.00000 4990224.00000
SECONDARY_XY_ORIGIN: 514461.07400 4990014.17400
NATION: US
NATION: "SCIENCE
STATE: MT
STATE: WY
NW_QUAD_CORNER_XY: 514761.79300 4989910.49400
NE_QUAD_CORNER_XY: 519682.39100 4989923.79200
SE_QUAD_CORNERY_XY: 519703.82400 4982980.79600
SW_QUAD_CORNER_XY: 514777.86800 4982967.49800
SECONDARY_NW_QUAD_XY: 514762.22900 4989693.24800
SECONDARY_NE_QUAD_XY: 519682.97300 4989706.54700
SECONDARY_SE_QUAD_XY: 519704.40600 4982763.60600
SECONDARY_SW_QUAD_XY: 514778.30400 4982750.30800
RMSE_XY: 2.10000
IMAGE_SOURCE: BLACK AND WHITE FILM
SOURCE_IMAGE_ID: NAPP 7817 085
SOURCE_IMAGE_DATE: 1994 06 27
SOURCE_IMAGE_ID: NAPP 7817 086
SOURCE_IMAGE_DATE: 1994 06 27
SOURCE_DEM_DATE: 1976 09 00
AGENCY: WESTERN MAPPING CENTER (WMC)
PRODUCER: UNDEFINED
PRODUCTION_SYSTEM: GIS/MAGIC
COMPRESSION: UNDEFINED
STANDARD_VERSION: 1996 12
METADATA_DATE: 1997 12 04
DATA_FILE_SIZE: 42413035
BYTE_COUNT: 5605
