FILENAME: O4511058.NWS.830023.tif
QUADRANGLE_NAME: ELECTRIC PEAK
QUADRANT: NW
WEST_LONGITUDE: -110 52 30.00000
EAST_LONGITUDE: -110 48 45.00000
NORTH_LATITUDE: 45 7 30.00000
SOUTH_LATITUDE: 45 3 45.00000
PRODUCTION_DATE: 1997 12 4
RASTER_ORDER: LEFT_RIGHT/TOP_BOTTOM
BAND_ORGANIZATION: SINGLE FILE
BAND_CONTENT: BLACK&WHITE
BAND_CONTENT: UNDEFINED
BAND_CONTENT: UNDEFINED
BITS_PER_PIXEL: 8
SAMPLES_AND_LINES: 5595 7563
HORIZONTAL_DATUM: NAD83
HORIZONTAL_COORDINATE_SYSTEM: UTM
COORDINATE_ZONE: 12
HORIZONTAL_UNITS: METERS
HORIZONTAL_RESOLUTION: 1.00000
SECONDARY_HORIZONTAL_DATUM: NAD27
XY_ORIGIN: 509468.00000 4997154.00000
SECONDARY_XY_ORIGIN: 509529.07000 4996944.16000
NATION: US
NATION: "SCIENCE
STATE: MT
NW_QUAD_CORNER_XY: 509830.46700 4996844.06700
NE_QUAD_CORNER_XY: 514745.70100 4996853.56600
SE_QUAD_CORNERY_XY: 514761.79300 4989910.49400
SW_QUAD_CORNER_XY: 509841.19500 4989900.99500
SECONDARY_NW_QUAD_XY: 509830.75800 4996626.76700
SECONDARY_NE_QUAD_XY: 514746.13700 4996636.26600
SECONDARY_SE_QUAD_XY: 514762.22900 4989693.24800
SECONDARY_SW_QUAD_XY: 509841.48600 4989683.74900
RMSE_XY: 2.90000
IMAGE_SOURCE: BLACK AND WHITE FILM
SOURCE_IMAGE_ID: NAPP 7826 083
SOURCE_IMAGE_DATE: 1994 08 25
SOURCE_IMAGE_ID: NAPP 7826 082
SOURCE_IMAGE_DATE: 1994 08 25
SOURCE_IMAGE_ID: NAPP 7826 084
SOURCE_IMAGE_DATE: 1994 08 25
SOURCE_DEM_DATE: 1976 09 00
AGENCY: WESTERN MAPPING CENTER (WMC)
PRODUCER: UNDEFINED
PRODUCTION_SYSTEM: GIS/MAGIC
COMPRESSION: UNDEFINED
STANDARD_VERSION: 1996 12
METADATA_DATE: 1997 12 04
DATA_FILE_SIZE: 42320580
BYTE_COUNT: 5595
