FILENAME: O4511058.NES.830022.tif
QUADRANGLE_NAME: ELECTRIC PEAK
QUADRANT: NE
WEST_LONGITUDE: -110 48 45.00000
EAST_LONGITUDE: -110 45 0.00000
NORTH_LATITUDE: 45 7 30.00000
SOUTH_LATITUDE: 45 3 45.00000
PRODUCTION_DATE: 1997 12 4
RASTER_ORDER: LEFT_RIGHT/TOP_BOTTOM
BAND_ORGANIZATION: SINGLE FILE
BAND_CONTENT: BLACK&WHITE
BAND_CONTENT: UNDEFINED
BAND_CONTENT: UNDEFINED
BITS_PER_PIXEL: 8
SAMPLES_AND_LINES: 5600 7566
HORIZONTAL_DATUM: NAD83
HORIZONTAL_COORDINATE_SYSTEM: UTM
COORDINATE_ZONE: 12
HORIZONTAL_UNITS: METERS
HORIZONTAL_RESOLUTION: 1.00000
SECONDARY_HORIZONTAL_DATUM: NAD27
XY_ORIGIN: 514384.00000 4997167.00000
SECONDARY_XY_ORIGIN: 514445.04800 4996957.06400
NATION: US
NATION: "SCIENCE
STATE: MT
NW_QUAD_CORNER_XY: 514745.70100 4996853.56600
NE_QUAD_CORNER_XY: 519660.93400 4996866.86500
SE_QUAD_CORNERY_XY: 519682.39100 4989923.79200
SW_QUAD_CORNER_XY: 514761.79300 4989910.49400
SECONDARY_NW_QUAD_XY: 514746.13700 4996636.26600
SECONDARY_NE_QUAD_XY: 519661.51600 4996649.56500
SECONDARY_SE_QUAD_XY: 519682.97300 4989706.54700
SECONDARY_SW_QUAD_XY: 514762.22900 4989693.24800
RMSE_XY: 2.10000
IMAGE_SOURCE: BLACK AND WHITE FILM
SOURCE_IMAGE_ID: NAPP 7817 083
SOURCE_IMAGE_DATE: 1994 06 27
SOURCE_IMAGE_ID: NAPP 7817 084
SOURCE_IMAGE_DATE: 1994 06 27
SOURCE_IMAGE_ID: NAPP 7817 082
SOURCE_IMAGE_DATE: 1994 06 27
SOURCE_IMAGE_ID: NAPP 7830 067
SOURCE_IMAGE_DATE: 1994 09 05
SOURCE_IMAGE_ID: NAPP 7830 068
SOURCE_IMAGE_DATE: 1994 09 05
SOURCE_DEM_DATE: 1976 09 00
AGENCY: WESTERN MAPPING CENTER (WMC)
PRODUCER: UNDEFINED
PRODUCTION_SYSTEM: GIS/MAGIC
COMPRESSION: UNDEFINED
STANDARD_VERSION: 1996 12
METADATA_DATE: 1997 12 04
DATA_FILE_SIZE: 42375200
BYTE_COUNT: 5600
