FILENAME: O4511059.SES.44689.tif
QUADRANGLE_NAME: GARDINER
QUADRANT: SE
WEST_LONGITUDE: -110 41 15.00000
EAST_LONGITUDE: -110 37 30.00000
NORTH_LATITUDE: 45 3 45.00000
SOUTH_LATITUDE: 45 0 0.00000
PRODUCTION_DATE: 1992 12 4
RASTER_ORDER: LEFT_RIGHT/TOP_BOTTOM
BAND_ORGANIZATION: SINGLE FILE
BAND_CONTENT: BLACK&WHITE
BAND_CONTENT: UNDEFINED
BAND_CONTENT: UNDEFINED
BITS_PER_PIXEL: 8
SAMPLES_AND_LINES: 5612 7582
HORIZONTAL_DATUM: NAD83
HORIZONTAL_COORDINATE_SYSTEM: UTM
COORDINATE_ZONE: 12
HORIZONTAL_UNITS: METERS
HORIZONTAL_RESOLUTION: 1.00000
SECONDARY_HORIZONTAL_DATUM: NAD27
XY_ORIGIN: 524250.00000 4990267.00000
SECONDARY_XY_ORIGIN: 524310.00000 4990058.00000
NATION: US
STATE: MT
NW_QUAD_CORNER_XY: 524602.98900 4989940.89100
NE_QUAD_CORNER_XY: 529523.58600 4989961.78900
SE_QUAD_CORNERY_XY: 529555.73600 4983018.79300
SW_QUAD_CORNER_XY: 524629.78000 4982997.89500
SECONDARY_NW_QUAD_XY: 524603.71600 4989723.64600
SECONDARY_NE_QUAD_XY: 529524.45900 4989744.54500
SECONDARY_SE_QUAD_XY: 529556.60900 4982801.60400
SECONDARY_SW_QUAD_XY: 524630.50700 4982780.70600
RMSE_XY: 6.90000
IMAGE_SOURCE: BLACK AND WHITE FILM
SOURCE_IMAGE_ID: NAPP 3859 181
SOURCE_IMAGE_DATE: 1991 9 3
SOURCE_DEM_DATE: 1992 12 4
AGENCY: WESTERN MAPPING CENTER (WMC)
PRODUCER: WMC
PRODUCTION_SYSTEM: DR-OR V1 AV500 DG/UX 5.4
COMPRESSION: UNDEFINED
STANDARD_VERSION: 1996 12
METADATA_DATE: 1997 6 22
DATA_FILE_SIZE: 42555796
BYTE_COUNT: 5612
