FILENAME: O4511059.NES.830017.tif
QUADRANGLE_NAME: GARDINER
QUADRANT: NE
WEST_LONGITUDE: -110 41 15.00000
EAST_LONGITUDE: -110 37 30.00000
NORTH_LATITUDE: 45 7 30.00000
SOUTH_LATITUDE: 45 3 45.00000
PRODUCTION_DATE: 1997 12 4
RASTER_ORDER: LEFT_RIGHT/TOP_BOTTOM
BAND_ORGANIZATION: SINGLE FILE
BAND_CONTENT: BLACK&WHITE
BAND_CONTENT: UNDEFINED
BAND_CONTENT: UNDEFINED
BITS_PER_PIXEL: 8
SAMPLES_AND_LINES: 5611 7574
HORIZONTAL_DATUM: NAD83
HORIZONTAL_COORDINATE_SYSTEM: UTM
COORDINATE_ZONE: 12
HORIZONTAL_UNITS: METERS
HORIZONTAL_RESOLUTION: 1.00000
SECONDARY_HORIZONTAL_DATUM: NAD27
XY_ORIGIN: 524214.00000 4997205.00000
SECONDARY_XY_ORIGIN: 524274.95100 4996994.98100
NATION: US
NATION: "SCIENCE
STATE: MT
NW_QUAD_CORNER_XY: 524576.16700 4996883.96300
NE_QUAD_CORNER_XY: 529491.40100 4996904.86000
SE_QUAD_CORNERY_XY: 529523.58600 4989961.78800
SW_QUAD_CORNER_XY: 524602.98900 4989940.89100
SECONDARY_NW_QUAD_XY: 524576.89500 4996666.66400
SECONDARY_NE_QUAD_XY: 529492.27400 4996687.56200
SECONDARY_SE_QUAD_XY: 529524.45900 4989744.54400
SECONDARY_SW_QUAD_XY: 524603.71600 4989723.64600
RMSE_XY: 2.30000
IMAGE_SOURCE: BLACK AND WHITE FILM
SOURCE_IMAGE_ID: NAPP 7826 154
SOURCE_IMAGE_DATE: 1994 08 25
SOURCE_IMAGE_ID: NAPP 7826 155
SOURCE_IMAGE_DATE: 1994 08 25
SOURCE_DEM_DATE: 1997 01 01
AGENCY: WESTERN MAPPING CENTER (WMC)
PRODUCER: UNDEFINED
PRODUCTION_SYSTEM: GIS/MAGIC
COMPRESSION: UNDEFINED
STANDARD_VERSION: 1996 12
METADATA_DATE: 1998 01 21
DATA_FILE_SIZE: 42503325
BYTE_COUNT: 5611
