FILENAME: O4511061.SES.829978.tif
QUADRANGLE_NAME: SPECIMEN CREEK
QUADRANT: SE
WEST_LONGITUDE: -110 26 15.00000
EAST_LONGITUDE: -110 22 30.00000
NORTH_LATITUDE: 45 3 45.00000
SOUTH_LATITUDE: 45 0 0.00000
PRODUCTION_DATE: 1998 1 21
RASTER_ORDER: LEFT_RIGHT/TOP_BOTTOM
BAND_ORGANIZATION: SINGLE FILE
BAND_CONTENT: BLACK&WHITE
BAND_CONTENT: UNDEFINED
BAND_CONTENT: UNDEFINED
BITS_PER_PIXEL: 8
SAMPLES_AND_LINES: 5637 7590
HORIZONTAL_DATUM: NAD83
HORIZONTAL_COORDINATE_SYSTEM: UTM
COORDINATE_ZONE: 12
HORIZONTAL_UNITS: METERS
HORIZONTAL_RESOLUTION: 1.00000
SECONDARY_HORIZONTAL_DATUM: NAD27
XY_ORIGIN: 543924.00000 4990384.00000
SECONDARY_XY_ORIGIN: 543984.75000 4990174.11900
NATION: US
NATION: "SCIENCE
STATE: MT
NW_QUAD_CORNER_XY: 544285.37900 4990047.28100
NE_QUAD_CORNER_XY: 549205.97700 4990083.37800
SE_QUAD_CORNERY_XY: 549259.56200 4983140.38200
SW_QUAD_CORNER_XY: 544333.60500 4983104.28400
SECONDARY_NW_QUAD_XY: 544286.68800 4989830.03900
SECONDARY_NE_QUAD_XY: 549207.43100 4989866.13700
SECONDARY_SE_QUAD_XY: 549261.01600 4982923.19600
SECONDARY_SW_QUAD_XY: 544334.91400 4982887.09800
RMSE_XY: 1.50000
IMAGE_SOURCE: BLACK AND WHITE FILM
SOURCE_IMAGE_ID: NAPP 7829 214
SOURCE_IMAGE_DATE: 1994 09 05
SOURCE_IMAGE_ID: NAPP 7829 213
SOURCE_IMAGE_DATE: 1994 09 05
SOURCE_IMAGE_ID: NAPP 7829 215
SOURCE_IMAGE_DATE: 1994 09 05
SOURCE_DEM_DATE: 1997 01 01
AGENCY: WESTERN MAPPING CENTER (WMC)
PRODUCER: UNDEFINED
PRODUCTION_SYSTEM: GIS/MAGIC
COMPRESSION: UNDEFINED
STANDARD_VERSION: 1996 12
METADATA_DATE: 1998 01 21
DATA_FILE_SIZE: 42790467
BYTE_COUNT: 5637
