FILENAME: O4511062.NWS.829931.tif
QUADRANGLE_NAME: HUMMINGBIRD PEAK
QUADRANT: NW
WEST_LONGITUDE: -110 22 30.00000
EAST_LONGITUDE: -110 18 45.00000
NORTH_LATITUDE: 45 7 30.00000
SOUTH_LATITUDE: 45 3 45.00000
PRODUCTION_DATE: 1998 1 21
RASTER_ORDER: LEFT_RIGHT/TOP_BOTTOM
BAND_ORGANIZATION: SINGLE FILE
BAND_CONTENT: BLACK&WHITE
BAND_CONTENT: UNDEFINED
BAND_CONTENT: UNDEFINED
BITS_PER_PIXEL: 8
SAMPLES_AND_LINES: 5636 7594
HORIZONTAL_DATUM: NAD83
HORIZONTAL_COORDINATE_SYSTEM: UTM
COORDINATE_ZONE: 12
HORIZONTAL_UNITS: METERS
HORIZONTAL_RESOLUTION: 1.00000
SECONDARY_HORIZONTAL_DATUM: NAD27
XY_ORIGIN: 548792.00000 4997367.00000
SECONDARY_XY_ORIGIN: 548852.61800 4997157.07900
NATION: US
NATION: "SCIENCE
STATE: MT
NW_QUAD_CORNER_XY: 549152.33300 4997026.44900
NE_QUAD_CORNER_XY: 554067.56600 4997066.34600
SE_QUAD_CORNERY_XY: 554126.57400 4990123.27500
SW_QUAD_CORNER_XY: 549205.97700 4990083.37800
SECONDARY_NW_QUAD_XY: 549153.78800 4996809.15500
SECONDARY_NE_QUAD_XY: 554069.16600 4996849.05300
SECONDARY_SE_QUAD_XY: 554128.17400 4989906.03600
SECONDARY_SW_QUAD_XY: 549207.43100 4989866.13700
RMSE_XY: 3.90000
IMAGE_SOURCE: BLACK AND WHITE FILM
SOURCE_IMAGE_ID: NAPP 7824 075
SOURCE_IMAGE_DATE: 1994 08 25
SOURCE_IMAGE_ID: NAPP 7824 076
SOURCE_IMAGE_DATE: 1994 08 25
SOURCE_DEM_DATE: 1997 01 01
AGENCY: WESTERN MAPPING CENTER (WMC)
PRODUCER: UNDEFINED
PRODUCTION_SYSTEM: GIS/MAGIC
COMPRESSION: UNDEFINED
STANDARD_VERSION: 1996 12
METADATA_DATE: 1998 01 21
DATA_FILE_SIZE: 42805420
BYTE_COUNT: 5636
