FILENAME: O4511062.NES.829930.tif
QUADRANGLE_NAME: HUMMINGBIRD PEAK
QUADRANT: NE
WEST_LONGITUDE: -110 18 45.00000
EAST_LONGITUDE: -110 15 0.00000
NORTH_LATITUDE: 45 7 30.00000
SOUTH_LATITUDE: 45 3 45.00000
PRODUCTION_DATE: 1997 12 4
RASTER_ORDER: LEFT_RIGHT/TOP_BOTTOM
BAND_ORGANIZATION: SINGLE FILE
BAND_CONTENT: BLACK&WHITE
BAND_CONTENT: UNDEFINED
BAND_CONTENT: UNDEFINED
BITS_PER_PIXEL: 8
SAMPLES_AND_LINES: 5642 7598
HORIZONTAL_DATUM: NAD83
HORIZONTAL_COORDINATE_SYSTEM: UTM
COORDINATE_ZONE: 12
HORIZONTAL_UNITS: METERS
HORIZONTAL_RESOLUTION: 1.00000
SECONDARY_HORIZONTAL_DATUM: NAD27
XY_ORIGIN: 553707.00000 4997411.00000
SECONDARY_XY_ORIGIN: 553767.56000 4997201.10700
NATION: US
NATION: "SCIENCE
STATE: MT
NW_QUAD_CORNER_XY: 554067.56600 4997066.34600
NE_QUAD_CORNER_XY: 558982.79800 4997110.04300
SE_QUAD_CORNERY_XY: 559047.17200 4990166.97200
SW_QUAD_CORNER_XY: 554126.57400 4990123.27500
SECONDARY_NW_QUAD_XY: 554069.16600 4996849.05300
SECONDARY_NE_QUAD_XY: 558984.54400 4996892.75100
SECONDARY_SE_QUAD_XY: 559048.91700 4989949.73400
SECONDARY_SW_QUAD_XY: 554128.17400 4989906.03600
RMSE_XY: 3.40000
IMAGE_SOURCE: BLACK AND WHITE FILM
SOURCE_IMAGE_ID: NAPP 7829 152
SOURCE_IMAGE_DATE: 1994 09 05
SOURCE_IMAGE_ID: NAPP 7829 151
SOURCE_IMAGE_DATE: 1994 09 05
SOURCE_DEM_DATE: 1997 01 01
AGENCY: WESTERN MAPPING CENTER (WMC)
PRODUCER: UNDEFINED
PRODUCTION_SYSTEM: GIS/MAGIC
COMPRESSION: UNDEFINED
STANDARD_VERSION: 1996 12
METADATA_DATE: 1998 01 21
DATA_FILE_SIZE: 42873558
BYTE_COUNT: 5642
