FILENAME: O4511063.SWS.831264.tif
QUADRANGLE_NAME: ROUNDHEAD BUTTE
QUADRANT: SW
WEST_LONGITUDE: -110 15 0.00000
EAST_LONGITUDE: -110 11 15.00000
NORTH_LATITUDE: 45 3 45.00000
SOUTH_LATITUDE: 45 0 0.00000
PRODUCTION_DATE: 1998 1 14
RASTER_ORDER: LEFT_RIGHT/TOP_BOTTOM
BAND_ORGANIZATION: SINGLE FILE
BAND_CONTENT: BLACK&WHITE
BAND_CONTENT: UNDEFINED
BAND_CONTENT: UNDEFINED
BITS_PER_PIXEL: 8
SAMPLES_AND_LINES: 5652 7601
HORIZONTAL_DATUM: NAD83
HORIZONTAL_COORDINATE_SYSTEM: UTM
COORDINATE_ZONE: 12
HORIZONTAL_UNITS: METERS
HORIZONTAL_RESOLUTION: 1.00000
SECONDARY_HORIZONTAL_DATUM: NAD27
XY_ORIGIN: 558687.00000 4990515.00000
SECONDARY_XY_ORIGIN: 558747.58300 4990305.17900
NATION: US
NATION: "SCIENCE
STATE: MT
NW_QUAD_CORNER_XY: 559047.17200 4990166.97200
NE_QUAD_CORNER_XY: 563967.76900 4990214.47000
SE_QUAD_CORNERY_XY: 564037.43200 4983271.47300
SW_QUAD_CORNER_XY: 559111.47500 4983223.97600
SECONDARY_NW_QUAD_XY: 559048.91700 4989949.73400
SECONDARY_NE_QUAD_XY: 563969.66000 4989997.23300
SECONDARY_SE_QUAD_XY: 564039.32200 4983054.29200
SECONDARY_SW_QUAD_XY: 559113.22000 4983006.79300
RMSE_XY: 1.90000
IMAGE_SOURCE: BLACK AND WHITE FILM
SOURCE_IMAGE_ID: NAPP 7833 018
SOURCE_IMAGE_DATE: 1994 09 22
SOURCE_IMAGE_ID: NAPP 7833 017
SOURCE_IMAGE_DATE: 1994 09 22
SOURCE_IMAGE_ID: NAPP 7833 019
SOURCE_IMAGE_DATE: 1994 09 22
SOURCE_IMAGE_ID: NAPP 3857 206
SOURCE_IMAGE_DATE: 1991 08 30
SOURCE_DEM_DATE: 1997 01 01
AGENCY: WESTERN MAPPING CENTER (WMC)
PRODUCER: UNDEFINED
PRODUCTION_SYSTEM: GIS/MAGIC
COMPRESSION: UNDEFINED
STANDARD_VERSION: 1996 12
METADATA_DATE: 1998 01 15
DATA_FILE_SIZE: 42966504
BYTE_COUNT: 5652
