FILENAME: O4511063.SES.831263.tif
QUADRANGLE_NAME: ROUNDHEAD BUTTE
QUADRANT: SE
WEST_LONGITUDE: -110 11 15.00000
EAST_LONGITUDE: -110 7 30.00000
NORTH_LATITUDE: 45 3 45.00000
SOUTH_LATITUDE: 45 0 0.00000
PRODUCTION_DATE: 1998 1 14
RASTER_ORDER: LEFT_RIGHT/TOP_BOTTOM
BAND_ORGANIZATION: SINGLE FILE
BAND_CONTENT: BLACK&WHITE
BAND_CONTENT: UNDEFINED
BAND_CONTENT: UNDEFINED
BITS_PER_PIXEL: 8
SAMPLES_AND_LINES: 5657 7604
HORIZONTAL_DATUM: NAD83
HORIZONTAL_COORDINATE_SYSTEM: UTM
COORDINATE_ZONE: 12
HORIZONTAL_UNITS: METERS
HORIZONTAL_RESOLUTION: 1.00000
SECONDARY_HORIZONTAL_DATUM: NAD27
XY_ORIGIN: 563608.00000 4990566.00000
SECONDARY_XY_ORIGIN: 563668.56300 4990356.18700
NATION: US
NATION: "SCIENCE
STATE: MT
STATE: WY
NW_QUAD_CORNER_XY: 563967.76900 4990214.47000
NE_QUAD_CORNER_XY: 568888.36700 4990265.76700
SE_QUAD_CORNERY_XY: 568963.38900 4983322.77100
SW_QUAD_CORNER_XY: 564037.43200 4983271.47300
SECONDARY_NW_QUAD_XY: 563969.66000 4989997.23300
SECONDARY_NE_QUAD_XY: 568890.40300 4990048.53200
SECONDARY_SE_QUAD_XY: 568965.42400 4983105.59100
SECONDARY_SW_QUAD_XY: 564039.32200 4983054.29200
RMSE_XY: 2.40000
IMAGE_SOURCE: BLACK AND WHITE FILM
SOURCE_IMAGE_ID: NAPP 7829 064
SOURCE_IMAGE_DATE: 1994 09 05
SOURCE_IMAGE_ID: NAPP 7833 017
SOURCE_IMAGE_DATE: 1994 09 22
SOURCE_IMAGE_ID: NAPP 7829 146
SOURCE_IMAGE_DATE: 1994 09 05
SOURCE_IMAGE_ID: NAPP 3857 208
SOURCE_IMAGE_DATE: 1991 08 30
SOURCE_IMAGE_ID: NAPP 7829 065
SOURCE_IMAGE_DATE: 1994 09 05
SOURCE_DEM_DATE: 1997 01 01
AGENCY: WESTERN MAPPING CENTER (WMC)
PRODUCER: UNDEFINED
PRODUCTION_SYSTEM: GIS/MAGIC
COMPRESSION: UNDEFINED
STANDARD_VERSION: 1996 12
METADATA_DATE: 1998 01 15
DATA_FILE_SIZE: 43021485
BYTE_COUNT: 5657
