FILENAME: O4510902.NWS.1115258.tif
QUADRANGLE_NAME: RYAN CREEK
QUADRANT: NW
WEST_LONGITUDE: -109 52 30.00000
EAST_LONGITUDE: -109 48 45.00000
NORTH_LATITUDE: 46 0 0.00000
SOUTH_LATITUDE: 45 56 15.00000
PRODUCTION_DATE: 2000 11 14
RASTER_ORDER: LEFT_RIGHT/TOP_BOTTOM
BAND_ORGANIZATION: SINGLE FILE
BAND_CONTENT: BLACK&WHITE
BAND_CONTENT: UNDEFINED
BAND_CONTENT: UNDEFINED
BITS_PER_PIXEL: 8
SAMPLES_AND_LINES: 5640 7650
HORIZONTAL_DATUM: NAD83
HORIZONTAL_COORDINATE_SYSTEM: UTM
COORDINATE_ZONE: 12
HORIZONTAL_UNITS: METERS
HORIZONTAL_RESOLUTION: 1.00000
SECONDARY_HORIZONTAL_DATUM: NAD27
XY_ORIGIN: 586740.00000 5095050.00000
SECONDARY_XY_ORIGIN: 586799.93500 5094838.85400
NATION: US
STATE: MT
NW_QUAD_CORNER_XY: 587111.16600 5094662.71900
NE_QUAD_CORNER_XY: 591950.65300 5094732.98100
SE_QUAD_CORNERY_XY: 592054.14200 5087788.88900
SW_QUAD_CORNER_XY: 587209.20700 5087718.62200
SECONDARY_NW_QUAD_XY: 587113.79400 5094444.76600
SECONDARY_NE_QUAD_XY: 591953.42700 5094515.03100
SECONDARY_SE_QUAD_XY: 592056.91500 5087570.98100
SECONDARY_SW_QUAD_XY: 587211.83400 5087500.71100
RMSE_XY: 1.73000
IMAGE_SOURCE: BLACK AND WHITE FILM
SOURCE_IMAGE_ID: NAPP 9150 188
SOURCE_IMAGE_DATE: 1996 09 11
SOURCE_IMAGE_ID: NAPP 9150 186
SOURCE_IMAGE_DATE: 1996 09 11
SOURCE_DEM_DATE: 1981 00 00
AGENCY: WESTERN MAPPING CENTER (WMC)
PRODUCER: ANALYTICAL SURVEYS INC.
PRODUCTION_SYSTEM: ORBIT OR_RECTIFY V.5.2
COMPRESSION: UNDEFINED
STANDARD_VERSION: 1996 12
METADATA_DATE: 2000 11 16
DATA_FILE_SIZE: 43151640
BYTE_COUNT: 5640
