FILENAME: O4510904.SWS.1115338.tif
QUADRANGLE_NAME: STEPHENS HILL NE
QUADRANT: SW
WEST_LONGITUDE: -109 37 30.00000
EAST_LONGITUDE: -109 33 45.00000
NORTH_LATITUDE: 45 56 15.00000
SOUTH_LATITUDE: 45 52 30.00000
PRODUCTION_DATE: 2000 11 21
RASTER_ORDER: LEFT_RIGHT/TOP_BOTTOM
BAND_ORGANIZATION: SINGLE FILE
BAND_CONTENT: BLACK&WHITE
BAND_CONTENT: UNDEFINED
BAND_CONTENT: UNDEFINED
BITS_PER_PIXEL: 8
SAMPLES_AND_LINES: 5670 7650
HORIZONTAL_DATUM: NAD83
HORIZONTAL_COORDINATE_SYSTEM: UTM
COORDINATE_ZONE: 12
HORIZONTAL_UNITS: METERS
HORIZONTAL_RESOLUTION: 1.00000
SECONDARY_HORIZONTAL_DATUM: NAD27
XY_ORIGIN: 606210.00000 5088420.00000
SECONDARY_XY_ORIGIN: 606270.10200 5088209.23600
NATION: US
STATE: MT
NW_QUAD_CORNER_XY: 606588.92500 5088022.48700
NE_QUAD_CORNER_XY: 611433.84500 5088107.95200
SE_QUAD_CORNERY_XY: 611558.99500 5081163.95400
SW_QUAD_CORNER_XY: 606708.63200 5081078.48300
SECONDARY_NW_QUAD_XY: 606592.13600 5087804.58600
SECONDARY_NE_QUAD_XY: 611437.20200 5087890.05400
SECONDARY_SE_QUAD_XY: 611562.35200 5080946.09900
SECONDARY_SW_QUAD_XY: 606711.84300 5080860.62500
RMSE_XY: 1.28000
IMAGE_SOURCE: BLACK AND WHITE FILM
SOURCE_IMAGE_ID: NAPP 9150 49
SOURCE_IMAGE_DATE: 1996 09 11
SOURCE_DEM_DATE: 1957 00 00
AGENCY: WESTERN MAPPING CENTER (WMC)
PRODUCER: ANALYTICAL SURVEYS INC.
PRODUCTION_SYSTEM: ORBIT OR_RECTIFY V.5.2
COMPRESSION: UNDEFINED
STANDARD_VERSION: 1996 12
METADATA_DATE: 2000 11 28
DATA_FILE_SIZE: 43381170
BYTE_COUNT: 5670
