FILENAME: O4510904.NWS.1115336.tif
QUADRANGLE_NAME: STEPHENS HILL NE
QUADRANT: NW
WEST_LONGITUDE: -109 37 30.00000
EAST_LONGITUDE: -109 33 45.00000
NORTH_LATITUDE: 46 0 0.00000
SOUTH_LATITUDE: 45 56 15.00000
PRODUCTION_DATE: 2000 11 21
RASTER_ORDER: LEFT_RIGHT/TOP_BOTTOM
BAND_ORGANIZATION: SINGLE FILE
BAND_CONTENT: BLACK&WHITE
BAND_CONTENT: UNDEFINED
BAND_CONTENT: UNDEFINED
BITS_PER_PIXEL: 8
SAMPLES_AND_LINES: 5670 7680
HORIZONTAL_DATUM: NAD83
HORIZONTAL_COORDINATE_SYSTEM: UTM
COORDINATE_ZONE: 12
HORIZONTAL_UNITS: METERS
HORIZONTAL_RESOLUTION: 1.00000
SECONDARY_HORIZONTAL_DATUM: NAD27
XY_ORIGIN: 606090.00000 5095380.00000
SECONDARY_XY_ORIGIN: 606150.06500 5095168.94700
NATION: US
STATE: MT
NW_QUAD_CORNER_XY: 606469.09000 5094966.56300
NE_QUAD_CORNER_XY: 611308.56100 5095052.02200
SE_QUAD_CORNERY_XY: 611433.84500 5088107.95200
SW_QUAD_CORNER_XY: 606588.92500 5088022.48700
SECONDARY_NW_QUAD_XY: 606472.30200 5094748.61900
SECONDARY_NE_QUAD_XY: 611311.91900 5094834.08100
SECONDARY_SE_QUAD_XY: 611437.20200 5087890.05400
SECONDARY_SW_QUAD_XY: 606592.13600 5087804.58600
RMSE_XY: 1.66000
IMAGE_SOURCE: BLACK AND WHITE FILM
SOURCE_IMAGE_ID: NAPP 9150 47
SOURCE_IMAGE_DATE: 1996 09 11
SOURCE_IMAGE_ID: NAPP 9150 86
SOURCE_IMAGE_DATE: 1996 09 11
SOURCE_IMAGE_ID: NAPP 9154 25
SOURCE_IMAGE_DATE: 1997 08 28
SOURCE_DEM_DATE: 1957 00 00
AGENCY: WESTERN MAPPING CENTER (WMC)
PRODUCER: ANALYTICAL SURVEYS INC.
PRODUCTION_SYSTEM: ORBIT OR_RECTIFY V.5.2
COMPRESSION: UNDEFINED
STANDARD_VERSION: 1996 12
METADATA_DATE: 2000 12 01
DATA_FILE_SIZE: 43551270
BYTE_COUNT: 5670
