FILENAME: O4510905.SES.1115341.tif
QUADRANGLE_NAME: RUSSELL GULCH
QUADRANT: SE
WEST_LONGITUDE: -109 26 15.00000
EAST_LONGITUDE: -109 22 30.00000
NORTH_LATITUDE: 45 56 15.00000
SOUTH_LATITUDE: 45 52 30.00000
PRODUCTION_DATE: 2000 11 27
RASTER_ORDER: LEFT_RIGHT/TOP_BOTTOM
BAND_ORGANIZATION: SINGLE FILE
BAND_CONTENT: BLACK&WHITE
BAND_CONTENT: UNDEFINED
BAND_CONTENT: UNDEFINED
BITS_PER_PIXEL: 8
SAMPLES_AND_LINES: 5670 7680
HORIZONTAL_DATUM: NAD83
HORIZONTAL_COORDINATE_SYSTEM: UTM
COORDINATE_ZONE: 12
HORIZONTAL_UNITS: METERS
HORIZONTAL_RESOLUTION: 1.00000
SECONDARY_HORIZONTAL_DATUM: NAD27
XY_ORIGIN: 620760.00000 5088690.00000
SECONDARY_XY_ORIGIN: 620820.06400 5088479.36900
NATION: US
STATE: MT
NW_QUAD_CORNER_XY: 621123.67200 5088290.28300
NE_QUAD_CORNER_XY: 625968.57900 5088387.14900
SE_QUAD_CORNERY_XY: 626110.06200 5081443.17000
SW_QUAD_CORNER_XY: 621259.71000 5081346.29700
SECONDARY_NW_QUAD_XY: 621127.32100 5088072.39000
SECONDARY_NE_QUAD_XY: 625972.37400 5088169.25900
SECONDARY_SE_QUAD_XY: 626113.85600 5081225.32300
SECONDARY_SW_QUAD_XY: 621263.35900 5081128.44700
RMSE_XY: 1.71000
IMAGE_SOURCE: BLACK AND WHITE FILM
SOURCE_IMAGE_ID: NAPP 9153 170
SOURCE_IMAGE_DATE: 1997 08 28
SOURCE_IMAGE_ID: NAPP 9153 168
SOURCE_IMAGE_DATE: 1997 08 28
SOURCE_DEM_DATE: 1955 00 00
AGENCY: WESTERN MAPPING CENTER (WMC)
PRODUCER: ANALYTICAL SURVEYS INC.
PRODUCTION_SYSTEM: ORBIT OR_RECTIFY V.5.2
COMPRESSION: UNDEFINED
STANDARD_VERSION: 1996 12
METADATA_DATE: 2000 11 28
DATA_FILE_SIZE: 43551270
BYTE_COUNT: 5670
