FILENAME: O4510905.NES.1115339.tif
QUADRANGLE_NAME: RUSSELL GULCH
QUADRANT: NE
WEST_LONGITUDE: -109 26 15.00000
EAST_LONGITUDE: -109 22 30.00000
NORTH_LATITUDE: 46 0 0.00000
SOUTH_LATITUDE: 45 56 15.00000
PRODUCTION_DATE: 2000 11 20
RASTER_ORDER: LEFT_RIGHT/TOP_BOTTOM
BAND_ORGANIZATION: SINGLE FILE
BAND_CONTENT: BLACK&WHITE
BAND_CONTENT: UNDEFINED
BAND_CONTENT: UNDEFINED
BITS_PER_PIXEL: 8
SAMPLES_AND_LINES: 5670 7680
HORIZONTAL_DATUM: NAD83
HORIZONTAL_COORDINATE_SYSTEM: UTM
COORDINATE_ZONE: 12
HORIZONTAL_UNITS: METERS
HORIZONTAL_RESOLUTION: 1.00000
SECONDARY_HORIZONTAL_DATUM: NAD27
XY_ORIGIN: 620610.00000 5095650.00000
SECONDARY_XY_ORIGIN: 620670.08300 5095439.10800
NATION: US
STATE: MT
NW_QUAD_CORNER_XY: 620987.48900 5095234.34000
NE_QUAD_CORNER_XY: 625826.94600 5095331.19900
SE_QUAD_CORNERY_XY: 625968.57900 5088387.14900
SW_QUAD_CORNER_XY: 621123.67200 5088290.28300
SECONDARY_NW_QUAD_XY: 620991.13900 5095016.40500
SECONDARY_NE_QUAD_XY: 625830.74200 5095113.26700
SECONDARY_SE_QUAD_XY: 625972.37400 5088169.25900
SECONDARY_SW_QUAD_XY: 621127.32100 5088072.39000
RMSE_XY: 3.49000
IMAGE_SOURCE: BLACK AND WHITE FILM
SOURCE_IMAGE_ID: NAPP 9153 168
SOURCE_IMAGE_DATE: 1997 08 28
SOURCE_IMAGE_ID: NAPP 9153 166
SOURCE_IMAGE_DATE: 1997 08 28
SOURCE_DEM_DATE: 1955 00 00
AGENCY: WESTERN MAPPING CENTER (WMC)
PRODUCER: ANALYTICAL SURVEYS INC.
PRODUCTION_SYSTEM: ORBIT OR_RECTIFY V.5.2
COMPRESSION: UNDEFINED
STANDARD_VERSION: 1996 12
METADATA_DATE: 2000 11 28
DATA_FILE_SIZE: 43551270
BYTE_COUNT: 5670
