FILENAME: O4510907.NWS.1123020.tif
QUADRANGLE_NAME: BATTLE BUTTE
QUADRANT: NW
WEST_LONGITUDE: -109 15 0.00000
EAST_LONGITUDE: -109 11 15.00000
NORTH_LATITUDE: 46 0 0.00000
SOUTH_LATITUDE: 45 56 15.00000
PRODUCTION_DATE: 2000 11 29
RASTER_ORDER: LEFT_RIGHT/TOP_BOTTOM
BAND_ORGANIZATION: SINGLE FILE
BAND_CONTENT: BLACK&WHITE
BAND_CONTENT: UNDEFINED
BAND_CONTENT: UNDEFINED
BITS_PER_PIXEL: 8
SAMPLES_AND_LINES: 5700 7680
HORIZONTAL_DATUM: NAD83
HORIZONTAL_COORDINATE_SYSTEM: UTM
COORDINATE_ZONE: 12
HORIZONTAL_UNITS: METERS
HORIZONTAL_RESOLUTION: 1.00000
SECONDARY_HORIZONTAL_DATUM: NAD27
XY_ORIGIN: 635130.00000 5095950.00000
SECONDARY_XY_ORIGIN: 635190.01700 5095739.28400
NATION: US
STATE: MT
NW_QUAD_CORNER_XY: 635505.84400 5095536.31900
NE_QUAD_CORNER_XY: 640345.28500 5095644.58000
SE_QUAD_CORNERY_XY: 640503.27100 5088700.55300
SW_QUAD_CORNER_XY: 635658.37800 5088592.28400
SECONDARY_NW_QUAD_XY: 635509.93200 5095318.39300
SECONDARY_NE_QUAD_XY: 640349.51900 5095426.65700
SECONDARY_SE_QUAD_XY: 640507.50400 5088482.67200
SECONDARY_SW_QUAD_XY: 635662.46600 5088374.40000
RMSE_XY: 0.82000
IMAGE_SOURCE: BLACK AND WHITE FILM
SOURCE_IMAGE_ID: NAPP 9130 114
SOURCE_IMAGE_DATE: 1996 07 27
SOURCE_DEM_DATE: 1956 00 00
AGENCY: WESTERN MAPPING CENTER (WMC)
PRODUCER: ANALYTICAL SURVEYS INC.
PRODUCTION_SYSTEM: ORBIT OR_RECTIFY V.5.2
COMPRESSION: UNDEFINED
STANDARD_VERSION: 1996 12
METADATA_DATE: 2000 11 30
DATA_FILE_SIZE: 43781700
BYTE_COUNT: 5700
