FILENAME: O4510908.SWS.1123026.tif
QUADRANGLE_NAME: WHEAT BASIN
QUADRANT: SW
WEST_LONGITUDE: -109 7 30.00000
EAST_LONGITUDE: -109 3 45.00000
NORTH_LATITUDE: 45 56 15.00000
SOUTH_LATITUDE: 45 52 30.00000
PRODUCTION_DATE: 2000 11 29
RASTER_ORDER: LEFT_RIGHT/TOP_BOTTOM
BAND_ORGANIZATION: SINGLE FILE
BAND_CONTENT: BLACK&WHITE
BAND_CONTENT: UNDEFINED
BAND_CONTENT: UNDEFINED
BITS_PER_PIXEL: 8
SAMPLES_AND_LINES: 5700 7680
HORIZONTAL_DATUM: NAD83
HORIZONTAL_COORDINATE_SYSTEM: UTM
COORDINATE_ZONE: 12
HORIZONTAL_UNITS: METERS
HORIZONTAL_RESOLUTION: 1.00000
SECONDARY_HORIZONTAL_DATUM: NAD27
XY_ORIGIN: 644970.00000 5089230.00000
SECONDARY_XY_ORIGIN: 645029.88100 5089019.43300
NATION: US
STATE: MT
NW_QUAD_CORNER_XY: 645348.15700 5088812.62300
NE_QUAD_CORNER_XY: 650193.03900 5088928.49400
SE_QUAD_CORNERY_XY: 650361.74800 5081984.55100
SW_QUAD_CORNER_XY: 645511.42000 5081868.67100
SECONDARY_NW_QUAD_XY: 645352.53700 5088594.74500
SECONDARY_NE_QUAD_XY: 650197.56400 5088710.62000
SECONDARY_SE_QUAD_XY: 650366.27200 5081766.72000
SECONDARY_SW_QUAD_XY: 645515.79900 5081650.83700
RMSE_XY: 2.41000
IMAGE_SOURCE: BLACK AND WHITE FILM
SOURCE_IMAGE_ID: NAPP 9129 144
SOURCE_IMAGE_DATE: 1996 07 27
SOURCE_DEM_DATE: 1956 00 00
AGENCY: WESTERN MAPPING CENTER (WMC)
PRODUCER: ANALYTICAL SURVEYS INC.
PRODUCTION_SYSTEM: ORBIT OR_RECTIFY V.5.2
COMPRESSION: UNDEFINED
STANDARD_VERSION: 1996 12
METADATA_DATE: 2000 11 30
DATA_FILE_SIZE: 43781700
BYTE_COUNT: 5700
