FILENAME: O4510908.SES.1123025.tif
QUADRANGLE_NAME: WHEAT BASIN
QUADRANT: SE
WEST_LONGITUDE: -109 3 45.00000
EAST_LONGITUDE: -109 0 0.00000
NORTH_LATITUDE: 45 56 15.00000
SOUTH_LATITUDE: 45 52 30.00000
PRODUCTION_DATE: 2000 11 29
RASTER_ORDER: LEFT_RIGHT/TOP_BOTTOM
BAND_ORGANIZATION: SINGLE FILE
BAND_CONTENT: BLACK&WHITE
BAND_CONTENT: UNDEFINED
BAND_CONTENT: UNDEFINED
BITS_PER_PIXEL: 8
SAMPLES_AND_LINES: 5700 7680
HORIZONTAL_DATUM: NAD83
HORIZONTAL_COORDINATE_SYSTEM: UTM
COORDINATE_ZONE: 12
HORIZONTAL_UNITS: METERS
HORIZONTAL_RESOLUTION: 1.00000
SECONDARY_HORIZONTAL_DATUM: NAD27
XY_ORIGIN: 649830.00000 5089350.00000
SECONDARY_XY_ORIGIN: 649889.84600 5089139.37500
NATION: US
STATE: MT
NW_QUAD_CORNER_XY: 650193.03900 5088928.49400
NE_QUAD_CORNER_XY: 655037.91400 5089048.16800
SE_QUAD_CORNERY_XY: 655212.07000 5082104.23200
SW_QUAD_CORNER_XY: 650361.74800 5081984.55100
SECONDARY_NW_QUAD_XY: 650197.56400 5088710.62000
SECONDARY_NE_QUAD_XY: 655042.58600 5088830.29800
SECONDARY_SE_QUAD_XY: 655216.74000 5081886.40500
SECONDARY_SW_QUAD_XY: 650366.27200 5081766.72000
RMSE_XY: 2.27000
IMAGE_SOURCE: BLACK AND WHITE FILM
SOURCE_IMAGE_ID: NAPP 9129 94
SOURCE_IMAGE_DATE: 1996 07 27
SOURCE_DEM_DATE: 1956 00 00
AGENCY: WESTERN MAPPING CENTER (WMC)
PRODUCER: ANALYTICAL SURVEYS INC.
PRODUCTION_SYSTEM: ORBIT OR_RECTIFY V.5.2
COMPRESSION: UNDEFINED
STANDARD_VERSION: 1996 12
METADATA_DATE: 2000 11 30
DATA_FILE_SIZE: 43781700
BYTE_COUNT: 5700
