FILENAME: O4510910.SWS.1115272.tif
QUADRANGLE_NAME: GREYCLIFF
QUADRANT: SW
WEST_LONGITUDE: -109 52 30.00000
EAST_LONGITUDE: -109 48 45.00000
NORTH_LATITUDE: 45 48 45.00000
SOUTH_LATITUDE: 45 45 0.00000
PRODUCTION_DATE: 2000 11 16
RASTER_ORDER: LEFT_RIGHT/TOP_BOTTOM
BAND_ORGANIZATION: SINGLE FILE
BAND_CONTENT: BLACK&WHITE
BAND_CONTENT: UNDEFINED
BAND_CONTENT: UNDEFINED
BITS_PER_PIXEL: 8
SAMPLES_AND_LINES: 5640 7680
HORIZONTAL_DATUM: NAD83
HORIZONTAL_COORDINATE_SYSTEM: UTM
COORDINATE_ZONE: 12
HORIZONTAL_UNITS: METERS
HORIZONTAL_RESOLUTION: 1.00000
SECONDARY_HORIZONTAL_DATUM: NAD27
XY_ORIGIN: 587040.00000 5074230.00000
SECONDARY_XY_ORIGIN: 587100.11200 5074019.74400
NATION: US
STATE: MT
NW_QUAD_CORNER_XY: 587404.97500 5073830.64700
NE_QUAD_CORNER_XY: 592260.78900 5073900.92400
SE_QUAD_CORNERY_XY: 592363.94700 5066957.05000
SW_QUAD_CORNER_XY: 587502.70200 5066886.77000
SECONDARY_NW_QUAD_XY: 587407.60100 5073612.82400
SECONDARY_NE_QUAD_XY: 592263.56100 5073683.10300
SECONDARY_SE_QUAD_XY: 592366.71800 5066739.27400
SECONDARY_SW_QUAD_XY: 587505.32800 5066668.99200
RMSE_XY: 1.48000
IMAGE_SOURCE: BLACK AND WHITE FILM
SOURCE_IMAGE_ID: NAPP 9150 182
SOURCE_IMAGE_DATE: 1996 09 11
SOURCE_IMAGE_ID: NAPP 9150 184
SOURCE_IMAGE_DATE: 1996 09 11
SOURCE_DEM_DATE: 1980 00 00
AGENCY: WESTERN MAPPING CENTER (WMC)
PRODUCER: ANALYTICAL SURVEYS INC.
PRODUCTION_SYSTEM: ORBIT OR_RECTIFY V.5.2
COMPRESSION: UNDEFINED
STANDARD_VERSION: 1996 12
METADATA_DATE: 2000 11 18
DATA_FILE_SIZE: 43320840
BYTE_COUNT: 5640
