FILENAME: O4510911.NWS.1115320.tif
QUADRANGLE_NAME: LONE INDIAN BUTTE
QUADRANT: NW
WEST_LONGITUDE: -109 45 0.00000
EAST_LONGITUDE: -109 41 15.00000
NORTH_LATITUDE: 45 52 30.00000
SOUTH_LATITUDE: 45 48 45.00000
PRODUCTION_DATE: 2000 11 21
RASTER_ORDER: LEFT_RIGHT/TOP_BOTTOM
BAND_ORGANIZATION: SINGLE FILE
BAND_CONTENT: BLACK&WHITE
BAND_CONTENT: UNDEFINED
BAND_CONTENT: UNDEFINED
BITS_PER_PIXEL: 8
SAMPLES_AND_LINES: 5640 7650
HORIZONTAL_DATUM: NAD83
HORIZONTAL_COORDINATE_SYSTEM: UTM
COORDINATE_ZONE: 12
HORIZONTAL_UNITS: METERS
HORIZONTAL_RESOLUTION: 1.00000
SECONDARY_HORIZONTAL_DATUM: NAD27
XY_ORIGIN: 596640.00000 5081310.00000
SECONDARY_XY_ORIGIN: 596700.18300 5081099.47200
NATION: US
STATE: MT
NW_QUAD_CORNER_XY: 597007.89400 5080918.94100
NE_QUAD_CORNER_XY: 601858.26500 5080996.81200
SE_QUAD_CORNERY_XY: 601972.40700 5074052.87500
SW_QUAD_CORNER_XY: 597116.60000 5073974.99900
SECONDARY_NW_QUAD_XY: 597010.81300 5080701.07800
SECONDARY_NE_QUAD_XY: 601861.33000 5080778.95200
SECONDARY_SE_QUAD_XY: 601975.47100 5073835.05900
SECONDARY_SW_QUAD_XY: 597119.51700 5073757.18100
RMSE_XY: 2.57000
IMAGE_SOURCE: BLACK AND WHITE FILM
SOURCE_IMAGE_ID: NAPP 9154 58
SOURCE_IMAGE_DATE: 1997 08 28
SOURCE_IMAGE_ID: NAPP 9154 60
SOURCE_IMAGE_DATE: 1997 08 28
SOURCE_IMAGE_ID: NAPP 9154 56
SOURCE_IMAGE_DATE: 1997 08 28
SOURCE_DEM_DATE: 1981 00 00
AGENCY: WESTERN MAPPING CENTER (WMC)
PRODUCER: ANALYTICAL SURVEYS INC.
PRODUCTION_SYSTEM: ORBIT OR_RECTIFY V.5.2
COMPRESSION: UNDEFINED
STANDARD_VERSION: 1996 12
METADATA_DATE: 2000 11 30
DATA_FILE_SIZE: 43151640
BYTE_COUNT: 5640
