FILENAME: O4510912.SWS.1115326.tif
QUADRANGLE_NAME: STEPHENS HILL
QUADRANT: SW
WEST_LONGITUDE: -109 37 30.00000
EAST_LONGITUDE: -109 33 45.00000
NORTH_LATITUDE: 45 48 45.00000
SOUTH_LATITUDE: 45 45 0.00000
PRODUCTION_DATE: 2000 11 21
RASTER_ORDER: LEFT_RIGHT/TOP_BOTTOM
BAND_ORGANIZATION: SINGLE FILE
BAND_CONTENT: BLACK&WHITE
BAND_CONTENT: UNDEFINED
BAND_CONTENT: UNDEFINED
BITS_PER_PIXEL: 8
SAMPLES_AND_LINES: 5670 7650
HORIZONTAL_DATUM: NAD83
HORIZONTAL_COORDINATE_SYSTEM: UTM
COORDINATE_ZONE: 12
HORIZONTAL_UNITS: METERS
HORIZONTAL_RESOLUTION: 1.00000
SECONDARY_HORIZONTAL_DATUM: NAD27
XY_ORIGIN: 606450.00000 5074530.00000
SECONDARY_XY_ORIGIN: 606510.17600 5074319.81600
NATION: US
STATE: MT
NW_QUAD_CORNER_XY: 606828.21200 5074134.55100
NE_QUAD_CORNER_XY: 611684.01300 5074220.02700
SE_QUAD_CORNERY_XY: 611808.89600 5067276.17200
SW_QUAD_CORNER_XY: 606947.66300 5067190.69100
SECONDARY_NW_QUAD_XY: 606831.42100 5073916.73700
SECONDARY_NE_QUAD_XY: 611687.36800 5074002.21600
SECONDARY_SE_QUAD_XY: 611812.25100 5067058.40600
SECONDARY_SW_QUAD_XY: 606950.87200 5066972.92200
RMSE_XY: 1.61000
IMAGE_SOURCE: BLACK AND WHITE FILM
SOURCE_IMAGE_ID: NAPP 9150 53
SOURCE_IMAGE_DATE: 1996 09 11
SOURCE_DEM_DATE: 1955 00 00
AGENCY: WESTERN MAPPING CENTER (WMC)
PRODUCER: ANALYTICAL SURVEYS INC.
PRODUCTION_SYSTEM: ORBIT OR_RECTIFY V.5.2
COMPRESSION: UNDEFINED
STANDARD_VERSION: 1996 12
METADATA_DATE: 2000 11 30
DATA_FILE_SIZE: 43381170
BYTE_COUNT: 5670
