FILENAME: O4510912.NWS.1115324.tif
QUADRANGLE_NAME: STEPHENS HILL
QUADRANT: NW
WEST_LONGITUDE: -109 37 30.00000
EAST_LONGITUDE: -109 33 45.00000
NORTH_LATITUDE: 45 52 30.00000
SOUTH_LATITUDE: 45 48 45.00000
PRODUCTION_DATE: 2000 11 21
RASTER_ORDER: LEFT_RIGHT/TOP_BOTTOM
BAND_ORGANIZATION: SINGLE FILE
BAND_CONTENT: BLACK&WHITE
BAND_CONTENT: UNDEFINED
BAND_CONTENT: UNDEFINED
BITS_PER_PIXEL: 8
SAMPLES_AND_LINES: 5670 7680
HORIZONTAL_DATUM: NAD83
HORIZONTAL_COORDINATE_SYSTEM: UTM
COORDINATE_ZONE: 12
HORIZONTAL_UNITS: METERS
HORIZONTAL_RESOLUTION: 1.00000
SECONDARY_HORIZONTAL_DATUM: NAD27
XY_ORIGIN: 606330.00000 5081490.00000
SECONDARY_XY_ORIGIN: 606390.13900 5081279.52500
NATION: US
STATE: MT
NW_QUAD_CORNER_XY: 606708.63200 5081078.48300
NE_QUAD_CORNER_XY: 611558.99500 5081163.95400
SE_QUAD_CORNERY_XY: 611684.01300 5074220.02700
SW_QUAD_CORNER_XY: 606828.21200 5074134.55100
SECONDARY_NW_QUAD_XY: 606711.84300 5080860.62500
SECONDARY_NE_QUAD_XY: 611562.35200 5080946.09900
SECONDARY_SE_QUAD_XY: 611687.36800 5074002.21600
SECONDARY_SW_QUAD_XY: 606831.42100 5073916.73700
RMSE_XY: 1.66000
IMAGE_SOURCE: BLACK AND WHITE FILM
SOURCE_IMAGE_ID: NAPP 9150 51
SOURCE_IMAGE_DATE: 1996 09 11
SOURCE_DEM_DATE: 1955 00 00
AGENCY: WESTERN MAPPING CENTER (WMC)
PRODUCER: ANALYTICAL SURVEYS INC.
PRODUCTION_SYSTEM: ORBIT OR_RECTIFY V.5.2
COMPRESSION: UNDEFINED
STANDARD_VERSION: 1996 12
METADATA_DATE: 2000 11 30
DATA_FILE_SIZE: 43551270
BYTE_COUNT: 5670
