FILENAME: O4510912.NES.1115323.tif
QUADRANGLE_NAME: STEPHENS HILL
QUADRANT: NE
WEST_LONGITUDE: -109 33 45.00000
EAST_LONGITUDE: -109 30 0.00000
NORTH_LATITUDE: 45 52 30.00000
SOUTH_LATITUDE: 45 48 45.00000
PRODUCTION_DATE: 2000 11 21
RASTER_ORDER: LEFT_RIGHT/TOP_BOTTOM
BAND_ORGANIZATION: SINGLE FILE
BAND_CONTENT: BLACK&WHITE
BAND_CONTENT: UNDEFINED
BAND_CONTENT: UNDEFINED
BITS_PER_PIXEL: 8
SAMPLES_AND_LINES: 5670 7680
HORIZONTAL_DATUM: NAD83
HORIZONTAL_COORDINATE_SYSTEM: UTM
COORDINATE_ZONE: 12
HORIZONTAL_UNITS: METERS
HORIZONTAL_RESOLUTION: 1.00000
SECONDARY_HORIZONTAL_DATUM: NAD27
XY_ORIGIN: 611190.00000 5081580.00000
SECONDARY_XY_ORIGIN: 611250.11700 5081369.55200
NATION: US
STATE: MT
NW_QUAD_CORNER_XY: 611558.99500 5081163.95400
NE_QUAD_CORNER_XY: 616409.35500 5081253.22500
SE_QUAD_CORNERY_XY: 616539.81000 5074309.30400
SW_QUAD_CORNER_XY: 611684.01300 5074220.02700
SECONDARY_NW_QUAD_XY: 611562.35200 5080946.09900
SECONDARY_NE_QUAD_XY: 616412.85700 5081035.37300
SECONDARY_SE_QUAD_XY: 616543.31100 5074091.49600
SECONDARY_SW_QUAD_XY: 611687.36800 5074002.21600
RMSE_XY: 1.57000
IMAGE_SOURCE: BLACK AND WHITE FILM
SOURCE_IMAGE_ID: NAPP 9154 29
SOURCE_IMAGE_DATE: 1997 08 28
SOURCE_IMAGE_ID: NAPP 9154 31
SOURCE_IMAGE_DATE: 1997 08 28
SOURCE_DEM_DATE: 1955 00 00
AGENCY: WESTERN MAPPING CENTER (WMC)
PRODUCER: ANALYTICAL SURVEYS INC.
PRODUCTION_SYSTEM: ORBIT OR_RECTIFY V.5.2
COMPRESSION: UNDEFINED
STANDARD_VERSION: 1996 12
METADATA_DATE: 2000 11 30
DATA_FILE_SIZE: 43551270
BYTE_COUNT: 5670
