FILENAME: O4510913.SES.1115329.tif
QUADRANGLE_NAME: ANTELOPE POINT
QUADRANT: SE
WEST_LONGITUDE: -109 26 15.00000
EAST_LONGITUDE: -109 22 30.00000
NORTH_LATITUDE: 45 48 45.00000
SOUTH_LATITUDE: 45 45 0.00000
PRODUCTION_DATE: 2000 11 21
RASTER_ORDER: LEFT_RIGHT/TOP_BOTTOM
BAND_ORGANIZATION: SINGLE FILE
BAND_CONTENT: BLACK&WHITE
BAND_CONTENT: UNDEFINED
BAND_CONTENT: UNDEFINED
BITS_PER_PIXEL: 8
SAMPLES_AND_LINES: 5670 7650
HORIZONTAL_DATUM: NAD83
HORIZONTAL_COORDINATE_SYSTEM: UTM
COORDINATE_ZONE: 12
HORIZONTAL_UNITS: METERS
HORIZONTAL_RESOLUTION: 1.00000
SECONDARY_HORIZONTAL_DATUM: NAD27
XY_ORIGIN: 621030.00000 5074800.00000
SECONDARY_XY_ORIGIN: 621090.02600 5074589.89100
NATION: US
STATE: MT
NW_QUAD_CORNER_XY: 621395.60300 5074402.38200
NE_QUAD_CORNER_XY: 626251.39300 5074499.26000
SE_QUAD_CORNERY_XY: 626392.57300 5067555.42100
SW_QUAD_CORNER_XY: 621531.35100 5067458.53700
SECONDARY_NW_QUAD_XY: 621399.25100 5074184.57600
SECONDARY_NE_QUAD_XY: 626255.18600 5074281.45700
SECONDARY_SE_QUAD_XY: 626396.36600 5067337.66300
SECONDARY_SW_QUAD_XY: 621534.99800 5067240.77600
RMSE_XY: 1.57000
IMAGE_SOURCE: BLACK AND WHITE FILM
SOURCE_IMAGE_ID: NAPP 9153 174
SOURCE_IMAGE_DATE: 1997 08 28
SOURCE_IMAGE_ID: NAPP 9153 172
SOURCE_IMAGE_DATE: 1997 08 28
SOURCE_DEM_DATE: 1955 00 00
AGENCY: WESTERN MAPPING CENTER (WMC)
PRODUCER: ANALYTICAL SURVEYS INC.
PRODUCTION_SYSTEM: ORBIT OR_RECTIFY V.5.2
COMPRESSION: UNDEFINED
STANDARD_VERSION: 1996 12
METADATA_DATE: 2000 11 30
DATA_FILE_SIZE: 43381170
BYTE_COUNT: 5670
