FILENAME: O4510913.NWS.1115328.tif
QUADRANGLE_NAME: ANTELOPE POINT
QUADRANT: NW
WEST_LONGITUDE: -109 30 0.00000
EAST_LONGITUDE: -109 26 15.00000
NORTH_LATITUDE: 45 52 30.00000
SOUTH_LATITUDE: 45 48 45.00000
PRODUCTION_DATE: 2000 11 21
RASTER_ORDER: LEFT_RIGHT/TOP_BOTTOM
BAND_ORGANIZATION: SINGLE FILE
BAND_CONTENT: BLACK&WHITE
BAND_CONTENT: UNDEFINED
BAND_CONTENT: UNDEFINED
BITS_PER_PIXEL: 8
SAMPLES_AND_LINES: 5670 7680
HORIZONTAL_DATUM: NAD83
HORIZONTAL_COORDINATE_SYSTEM: UTM
COORDINATE_ZONE: 12
HORIZONTAL_UNITS: METERS
HORIZONTAL_RESOLUTION: 1.00000
SECONDARY_HORIZONTAL_DATUM: NAD27
XY_ORIGIN: 616050.00000 5081670.00000
SECONDARY_XY_ORIGIN: 616110.09500 5081459.57200
NATION: US
STATE: MT
NW_QUAD_CORNER_XY: 616409.35500 5081253.22500
NE_QUAD_CORNER_XY: 621259.71000 5081346.29700
SE_QUAD_CORNERY_XY: 621395.60300 5074402.38200
SW_QUAD_CORNER_XY: 616539.81000 5074309.30400
SECONDARY_NW_QUAD_XY: 616412.85700 5081035.37300
SECONDARY_NE_QUAD_XY: 621263.35900 5081128.44700
SECONDARY_SE_QUAD_XY: 621399.25100 5074184.57600
SECONDARY_SW_QUAD_XY: 616543.31100 5074091.49600
RMSE_XY: 1.10000
IMAGE_SOURCE: BLACK AND WHITE FILM
SOURCE_IMAGE_ID: NAPP 9153 208
SOURCE_IMAGE_DATE: 1997 08 28
SOURCE_IMAGE_ID: NAPP 9153 172
SOURCE_IMAGE_DATE: 1997 08 28
SOURCE_IMAGE_ID: NAPP 9153 210
SOURCE_IMAGE_DATE: 1997 08 28
SOURCE_DEM_DATE: 1955 00 00
AGENCY: WESTERN MAPPING CENTER (WMC)
PRODUCER: ANALYTICAL SURVEYS INC.
PRODUCTION_SYSTEM: ORBIT OR_RECTIFY V.5.2
COMPRESSION: UNDEFINED
STANDARD_VERSION: 1996 12
METADATA_DATE: 2000 11 30
DATA_FILE_SIZE: 43551270
BYTE_COUNT: 5670
