FILENAME: O4510914.NES.1123027.tif
QUADRANGLE_NAME: LINDEMULDER HILL
QUADRANT: NE
WEST_LONGITUDE: -109 18 45.00000
EAST_LONGITUDE: -109 15 0.00000
NORTH_LATITUDE: 45 52 30.00000
SOUTH_LATITUDE: 45 48 45.00000
PRODUCTION_DATE: 2000 11 30
RASTER_ORDER: LEFT_RIGHT/TOP_BOTTOM
BAND_ORGANIZATION: SINGLE FILE
BAND_CONTENT: BLACK&WHITE
BAND_CONTENT: UNDEFINED
BAND_CONTENT: UNDEFINED
BITS_PER_PIXEL: 8
SAMPLES_AND_LINES: 5670 7680
HORIZONTAL_DATUM: NAD83
HORIZONTAL_COORDINATE_SYSTEM: UTM
COORDINATE_ZONE: 12
HORIZONTAL_UNITS: METERS
HORIZONTAL_RESOLUTION: 1.00000
SECONDARY_HORIZONTAL_DATUM: NAD27
XY_ORIGIN: 630600.00000 5081970.00000
SECONDARY_XY_ORIGIN: 630659.94600 5081759.74100
NATION: US
STATE: MT
NW_QUAD_CORNER_XY: 630960.40800 5081543.84300
NE_QUAD_CORNER_XY: 635810.75100 5081648.31800
SE_QUAD_CORNERY_XY: 635962.96000 5074704.42100
SW_QUAD_CORNER_XY: 631107.17900 5074599.94000
SECONDARY_NW_QUAD_XY: 630964.34900 5081325.99900
SECONDARY_NE_QUAD_XY: 635814.83700 5081430.47700
SECONDARY_SE_QUAD_XY: 635967.04500 5074486.62400
SECONDARY_SW_QUAD_XY: 631111.11800 5074382.14000
RMSE_XY: 1.30000
IMAGE_SOURCE: BLACK AND WHITE FILM
SOURCE_IMAGE_ID: NAPP 9153 75
SOURCE_IMAGE_DATE: 1997 08 28
SOURCE_IMAGE_ID: NAPP 9153 73
SOURCE_IMAGE_DATE: 1997 08 28
SOURCE_IMAGE_ID: NAPP 9149 26
SOURCE_IMAGE_DATE: 1996 09 02
SOURCE_DEM_DATE: 1956 00 00
AGENCY: WESTERN MAPPING CENTER (WMC)
PRODUCER: ANALYTICAL SURVEYS INC.
PRODUCTION_SYSTEM: ORBIT OR_RECTIFY V.5.2
COMPRESSION: UNDEFINED
STANDARD_VERSION: 1996 12
METADATA_DATE: 2000 11 30
DATA_FILE_SIZE: 43551270
BYTE_COUNT: 5670
