FILENAME: O4510916.SWS.1123038.tif
QUADRANGLE_NAME: HUNTER LAKE
QUADRANT: SW
WEST_LONGITUDE: -109 7 30.00000
EAST_LONGITUDE: -109 3 45.00000
NORTH_LATITUDE: 45 48 45.00000
SOUTH_LATITUDE: 45 45 0.00000
PRODUCTION_DATE: 2000 11 30
RASTER_ORDER: LEFT_RIGHT/TOP_BOTTOM
BAND_ORGANIZATION: SINGLE FILE
BAND_CONTENT: BLACK&WHITE
BAND_CONTENT: UNDEFINED
BAND_CONTENT: UNDEFINED
BITS_PER_PIXEL: 8
SAMPLES_AND_LINES: 5700 7710
HORIZONTAL_DATUM: NAD83
HORIZONTAL_COORDINATE_SYSTEM: UTM
COORDINATE_ZONE: 12
HORIZONTAL_UNITS: METERS
HORIZONTAL_RESOLUTION: 1.00000
SECONDARY_HORIZONTAL_DATUM: NAD27
XY_ORIGIN: 645300.00000 5075370.00000
SECONDARY_XY_ORIGIN: 645359.78300 5075159.87600
NATION: US
STATE: MT
NW_QUAD_CORNER_XY: 645674.50900 5074924.78800
NE_QUAD_CORNER_XY: 650530.27700 5075040.67500
SE_QUAD_CORNERY_XY: 650698.62600 5068096.86600
SW_QUAD_CORNER_XY: 645837.42400 5067980.97300
SECONDARY_NW_QUAD_XY: 645678.88600 5074706.99800
SECONDARY_NE_QUAD_XY: 650534.80000 5074822.88800
SECONDARY_SE_QUAD_XY: 650703.14700 5067879.12400
SECONDARY_SW_QUAD_XY: 645841.80000 5067763.22700
RMSE_XY: 1.38000
IMAGE_SOURCE: BLACK AND WHITE FILM
SOURCE_IMAGE_ID: NAPP 9129 140
SOURCE_IMAGE_DATE: 1996 07 27
SOURCE_DEM_DATE: 1956 00 00
AGENCY: WESTERN MAPPING CENTER (WMC)
PRODUCER: ANALYTICAL SURVEYS INC.
PRODUCTION_SYSTEM: ORBIT OR_RECTIFY V.5.2
COMPRESSION: UNDEFINED
STANDARD_VERSION: 1996 12
METADATA_DATE: 2000 11 30
DATA_FILE_SIZE: 43952700
BYTE_COUNT: 5700
