FILENAME: O4510917.NWS.1145726.tif
QUADRANGLE_NAME: ROSS CANYON
QUADRANT: NW
WEST_LONGITUDE: -110 0 0.00000
EAST_LONGITUDE: -109 56 15.00000
NORTH_LATITUDE: 45 45 0.00000
SOUTH_LATITUDE: 45 41 15.00000
PRODUCTION_DATE: 2001 03 28
RASTER_ORDER: LEFT_RIGHT/TOP_BOTTOM
BAND_ORGANIZATION: SINGLE FILE
BAND_CONTENT: BLACK&WHITE
BAND_CONTENT: UNDEFINED
BAND_CONTENT: UNDEFINED
BITS_PER_PIXEL: 8
SAMPLES_AND_LINES: 5640 7650
HORIZONTAL_DATUM: NAD83
HORIZONTAL_COORDINATE_SYSTEM: UTM
COORDINATE_ZONE: 12
HORIZONTAL_UNITS: METERS
HORIZONTAL_RESOLUTION: 1.00000
SECONDARY_HORIZONTAL_DATUM: NAD27
XY_ORIGIN: 577410.00000 5067150.00000
SECONDARY_XY_ORIGIN: 577470.03300 5066940.01100
NATION: US
STATE: MT
NW_QUAD_CORNER_XY: 577780.20600 5066757.61000
NE_QUAD_CORNER_XY: 582641.45500 5066820.29000
SE_QUAD_CORNERY_XY: 582733.65300 5059876.48300
SW_QUAD_CORNER_XY: 577866.97900 5059813.79900
SECONDARY_NW_QUAD_XY: 577782.53900 5066539.82800
SECONDARY_NE_QUAD_XY: 582643.93500 5066602.51000
SECONDARY_SE_QUAD_XY: 582736.13100 5059658.74900
SECONDARY_SW_QUAD_XY: 577869.31200 5059596.06300
RMSE_XY: 2.21000
IMAGE_SOURCE: BLACK AND WHITE FILM
SOURCE_IMAGE_ID: NAPP 9154 153
SOURCE_IMAGE_DATE: 1997 08 28
SOURCE_DEM_DATE: 1993 00 00
AGENCY: WESTERN MAPPING CENTER (WMC)
PRODUCER: ANALYTICAL SURVEYS INC.
PRODUCTION_SYSTEM: ORBIT OR_RECTIFY V.5.2
COMPRESSION: UNDEFINED
STANDARD_VERSION: 1996 12
METADATA_DATE: 2001 03 29
DATA_FILE_SIZE: 43151640
BYTE_COUNT: 5640
