FILENAME: O4510918.NWS.1145730.tif
QUADRANGLE_NAME: PACKSADDLE BUTTE
QUADRANT: NW
WEST_LONGITUDE: -109 52 30.00000
EAST_LONGITUDE: -109 48 45.00000
NORTH_LATITUDE: 45 45 0.00000
SOUTH_LATITUDE: 45 41 15.00000
PRODUCTION_DATE: 2001 03 28
RASTER_ORDER: LEFT_RIGHT/TOP_BOTTOM
BAND_ORGANIZATION: SINGLE FILE
BAND_CONTENT: BLACK&WHITE
BAND_CONTENT: UNDEFINED
BAND_CONTENT: UNDEFINED
BITS_PER_PIXEL: 8
SAMPLES_AND_LINES: 5640 7650
HORIZONTAL_DATUM: NAD83
HORIZONTAL_COORDINATE_SYSTEM: UTM
COORDINATE_ZONE: 12
HORIZONTAL_UNITS: METERS
HORIZONTAL_RESOLUTION: 1.00000
SECONDARY_HORIZONTAL_DATUM: NAD27
XY_ORIGIN: 587130.00000 5067270.00000
SECONDARY_XY_ORIGIN: 587190.18700 5067060.07500
NATION: US
STATE: MT
NW_QUAD_CORNER_XY: 587502.70200 5066886.77000
NE_QUAD_CORNER_XY: 592363.94700 5066957.05000
SE_QUAD_CORNERY_XY: 592466.99400 5060013.25000
SW_QUAD_CORNER_XY: 587600.32400 5059942.96700
SECONDARY_NW_QUAD_XY: 587505.32800 5066668.99200
SECONDARY_NE_QUAD_XY: 592366.71800 5066739.27400
SECONDARY_SE_QUAD_XY: 592469.76400 5059795.52000
SECONDARY_SW_QUAD_XY: 587602.94900 5059725.23400
RMSE_XY: 2.22000
IMAGE_SOURCE: BLACK AND WHITE FILM
SOURCE_IMAGE_ID: NAPP 11012 78
SOURCE_IMAGE_DATE: 1998 08 25
SOURCE_IMAGE_ID: NAPP 11012 80
SOURCE_IMAGE_DATE: 1998 08 25
SOURCE_IMAGE_ID: NAPP 9150 286
SOURCE_IMAGE_DATE: 1996 09 11
SOURCE_DEM_DATE: 1995 00 00
AGENCY: WESTERN MAPPING CENTER (WMC)
PRODUCER: ANALYTICAL SURVEYS INC.
PRODUCTION_SYSTEM: ORBIT OR_RECTIFY V.5.2
COMPRESSION: UNDEFINED
STANDARD_VERSION: 1996 12
METADATA_DATE: 2001 03 29
DATA_FILE_SIZE: 43151640
BYTE_COUNT: 5640
