FILENAME: O4510920.SES.1122997.tif
QUADRANGLE_NAME: REED POINT
QUADRANT: SE
WEST_LONGITUDE: -109 33 45.00000
EAST_LONGITUDE: -109 30 0.00000
NORTH_LATITUDE: 45 41 15.00000
SOUTH_LATITUDE: 45 37 30.00000
PRODUCTION_DATE: 2000 11 22
RASTER_ORDER: LEFT_RIGHT/TOP_BOTTOM
BAND_ORGANIZATION: SINGLE FILE
BAND_CONTENT: BLACK&WHITE
BAND_CONTENT: UNDEFINED
BAND_CONTENT: UNDEFINED
BITS_PER_PIXEL: 8
SAMPLES_AND_LINES: 5700 7650
HORIZONTAL_DATUM: NAD83
HORIZONTAL_COORDINATE_SYSTEM: UTM
COORDINATE_ZONE: 12
HORIZONTAL_UNITS: METERS
HORIZONTAL_RESOLUTION: 1.00000
SECONDARY_HORIZONTAL_DATUM: NAD27
XY_ORIGIN: 611550.00000 5060730.00000
SECONDARY_XY_ORIGIN: 611610.08200 5060520.04400
NATION: US
STATE: MT
NW_QUAD_CORNER_XY: 611933.64500 5060332.38900
NE_QUAD_CORNER_XY: 616800.30100 5060421.67500
SE_QUAD_CORNERY_XY: 616930.33600 5053477.96700
SW_QUAD_CORNER_XY: 612058.26000 5053388.67700
SECONDARY_NW_QUAD_XY: 611936.99900 5060114.66800
SECONDARY_NE_QUAD_XY: 616803.80100 5060203.95700
SECONDARY_SE_QUAD_XY: 616933.83500 5053260.29600
SECONDARY_SW_QUAD_XY: 612061.61300 5053171.00200
RMSE_XY: 2.52000
IMAGE_SOURCE: BLACK AND WHITE FILM
SOURCE_IMAGE_ID: NAPP 9154 35
SOURCE_IMAGE_DATE: 1997 08 28
SOURCE_DEM_DATE: 1955 00 00
AGENCY: WESTERN MAPPING CENTER (WMC)
PRODUCER: ANALYTICAL SURVEYS INC.
PRODUCTION_SYSTEM: ORBIT OR_RECTIFY V.5.2
COMPRESSION: UNDEFINED
STANDARD_VERSION: 1996 12
METADATA_DATE: 2000 11 23
DATA_FILE_SIZE: 43610700
BYTE_COUNT: 5700
