FILENAME: O4510920.NWS.1122996.tif
QUADRANGLE_NAME: REED POINT
QUADRANT: NW
WEST_LONGITUDE: -109 37 30.00000
EAST_LONGITUDE: -109 33 45.00000
NORTH_LATITUDE: 45 45 0.00000
SOUTH_LATITUDE: 45 41 15.00000
PRODUCTION_DATE: 2000 11 22
RASTER_ORDER: LEFT_RIGHT/TOP_BOTTOM
BAND_ORGANIZATION: SINGLE FILE
BAND_CONTENT: BLACK&WHITE
BAND_CONTENT: UNDEFINED
BAND_CONTENT: UNDEFINED
BITS_PER_PIXEL: 8
SAMPLES_AND_LINES: 5670 7680
HORIZONTAL_DATUM: NAD83
HORIZONTAL_COORDINATE_SYSTEM: UTM
COORDINATE_ZONE: 12
HORIZONTAL_UNITS: METERS
HORIZONTAL_RESOLUTION: 1.00000
SECONDARY_HORIZONTAL_DATUM: NAD27
XY_ORIGIN: 606570.00000 5067600.00000
SECONDARY_XY_ORIGIN: 606630.20800 5067390.12200
NATION: US
STATE: MT
NW_QUAD_CORNER_XY: 606947.66300 5067190.69100
NE_QUAD_CORNER_XY: 611808.89600 5067276.17200
SE_QUAD_CORNERY_XY: 611933.64500 5060332.38900
SW_QUAD_CORNER_XY: 607066.98600 5060246.90300
SECONDARY_NW_QUAD_XY: 606950.87200 5066972.92200
SECONDARY_NE_QUAD_XY: 611812.25100 5067058.40600
SECONDARY_SE_QUAD_XY: 611936.99900 5060114.66800
SECONDARY_SW_QUAD_XY: 607070.19500 5060029.18000
RMSE_XY: 1.59000
IMAGE_SOURCE: BLACK AND WHITE FILM
SOURCE_IMAGE_ID: NAPP 9150 55
SOURCE_IMAGE_DATE: 1996 09 11
SOURCE_IMAGE_ID: NAPP 9150 57
SOURCE_IMAGE_DATE: 1996 09 11
SOURCE_DEM_DATE: 1955 00 00
AGENCY: WESTERN MAPPING CENTER (WMC)
PRODUCER: ANALYTICAL SURVEYS INC.
PRODUCTION_SYSTEM: ORBIT OR_RECTIFY V.5.2
COMPRESSION: UNDEFINED
STANDARD_VERSION: 1996 12
METADATA_DATE: 2000 11 23
DATA_FILE_SIZE: 43551270
BYTE_COUNT: 5670
