FILENAME: O4510921.SWS.1123002.tif
QUADRANGLE_NAME: SPRINGTIME
QUADRANT: SW
WEST_LONGITUDE: -109 30 0.00000
EAST_LONGITUDE: -109 26 15.00000
NORTH_LATITUDE: 45 41 15.00000
SOUTH_LATITUDE: 45 37 30.00000
PRODUCTION_DATE: 2000 11 22
RASTER_ORDER: LEFT_RIGHT/TOP_BOTTOM
BAND_ORGANIZATION: SINGLE FILE
BAND_CONTENT: BLACK&WHITE
BAND_CONTENT: UNDEFINED
BAND_CONTENT: UNDEFINED
BITS_PER_PIXEL: 8
SAMPLES_AND_LINES: 5670 7650
HORIZONTAL_DATUM: NAD83
HORIZONTAL_COORDINATE_SYSTEM: UTM
COORDINATE_ZONE: 12
HORIZONTAL_UNITS: METERS
HORIZONTAL_RESOLUTION: 1.00000
SECONDARY_HORIZONTAL_DATUM: NAD27
XY_ORIGIN: 616440.00000 5060820.00000
SECONDARY_XY_ORIGIN: 616500.03700 5060610.05500
NATION: US
STATE: MT
NW_QUAD_CORNER_XY: 616800.30100 5060421.67500
NE_QUAD_CORNER_XY: 621666.95300 5060514.76300
SE_QUAD_CORNERY_XY: 621802.41000 5053571.05900
SW_QUAD_CORNER_XY: 616930.33600 5053477.96700
SECONDARY_NW_QUAD_XY: 616803.80100 5060203.95700
SECONDARY_NE_QUAD_XY: 621670.59900 5060297.04800
SECONDARY_SE_QUAD_XY: 621806.05400 5053353.39100
SECONDARY_SW_QUAD_XY: 616933.83500 5053260.29600
RMSE_XY: 3.20000
IMAGE_SOURCE: BLACK AND WHITE FILM
SOURCE_IMAGE_ID: NAPP 9153 202
SOURCE_IMAGE_DATE: 1997 08 28
SOURCE_DEM_DATE: 1955 00 00
AGENCY: WESTERN MAPPING CENTER (WMC)
PRODUCER: ANALYTICAL SURVEYS INC.
PRODUCTION_SYSTEM: ORBIT OR_RECTIFY V.5.2
COMPRESSION: UNDEFINED
STANDARD_VERSION: 1996 12
METADATA_DATE: 2000 11 23
DATA_FILE_SIZE: 43381170
BYTE_COUNT: 5670
