FILENAME: O4510921.NWS.1123000.tif
QUADRANGLE_NAME: SPRINGTIME
QUADRANT: NW
WEST_LONGITUDE: -109 30 0.00000
EAST_LONGITUDE: -109 26 15.00000
NORTH_LATITUDE: 45 45 0.00000
SOUTH_LATITUDE: 45 41 15.00000
PRODUCTION_DATE: 2000 11 22
RASTER_ORDER: LEFT_RIGHT/TOP_BOTTOM
BAND_ORGANIZATION: SINGLE FILE
BAND_CONTENT: BLACK&WHITE
BAND_CONTENT: UNDEFINED
BAND_CONTENT: UNDEFINED
BITS_PER_PIXEL: 8
SAMPLES_AND_LINES: 5700 7680
HORIZONTAL_DATUM: NAD83
HORIZONTAL_COORDINATE_SYSTEM: UTM
COORDINATE_ZONE: 12
HORIZONTAL_UNITS: METERS
HORIZONTAL_RESOLUTION: 1.00000
SECONDARY_HORIZONTAL_DATUM: NAD27
XY_ORIGIN: 616290.00000 5067780.00000
SECONDARY_XY_ORIGIN: 616350.07900 5067570.11800
NATION: US
STATE: MT
NW_QUAD_CORNER_XY: 616670.12500 5067365.45400
NE_QUAD_CORNER_XY: 621531.35100 5067458.53700
SE_QUAD_CORNERY_XY: 621666.95300 5060514.76300
SW_QUAD_CORNER_XY: 616800.30100 5060421.67500
SECONDARY_NW_QUAD_XY: 616673.62600 5067147.69000
SECONDARY_NE_QUAD_XY: 621534.99800 5067240.77600
SECONDARY_SE_QUAD_XY: 621670.59900 5060297.04800
SECONDARY_SW_QUAD_XY: 616803.80100 5060203.95700
RMSE_XY: 2.19000
IMAGE_SOURCE: BLACK AND WHITE FILM
SOURCE_IMAGE_ID: NAPP 9153 204
SOURCE_IMAGE_DATE: 1997 08 28
SOURCE_IMAGE_ID: NAPP 9153 202
SOURCE_IMAGE_DATE: 1997 08 28
SOURCE_DEM_DATE: 1955 00 00
AGENCY: WESTERN MAPPING CENTER (WMC)
PRODUCER: ANALYTICAL SURVEYS INC.
PRODUCTION_SYSTEM: ORBIT OR_RECTIFY V.5.2
COMPRESSION: UNDEFINED
STANDARD_VERSION: 1996 12
METADATA_DATE: 2000 11 23
DATA_FILE_SIZE: 43781700
BYTE_COUNT: 5700
