FILENAME: O4510923.SWS.1123058.tif
QUADRANGLE_NAME: COLUMBUS EAST
QUADRANT: SW
WEST_LONGITUDE: -109 15 0.00000
EAST_LONGITUDE: -109 11 15.00000
NORTH_LATITUDE: 45 41 15.00000
SOUTH_LATITUDE: 45 37 30.00000
PRODUCTION_DATE: 2000 11 30
RASTER_ORDER: LEFT_RIGHT/TOP_BOTTOM
BAND_ORGANIZATION: SINGLE FILE
BAND_CONTENT: BLACK&WHITE
BAND_CONTENT: UNDEFINED
BAND_CONTENT: UNDEFINED
BITS_PER_PIXEL: 8
SAMPLES_AND_LINES: 5700 7680
HORIZONTAL_DATUM: NAD83
HORIZONTAL_COORDINATE_SYSTEM: UTM
COORDINATE_ZONE: 12
HORIZONTAL_UNITS: METERS
HORIZONTAL_RESOLUTION: 1.00000
SECONDARY_HORIZONTAL_DATUM: NAD27
XY_ORIGIN: 635910.00000 5061240.00000
SECONDARY_XY_ORIGIN: 635969.78200 5061030.22600
NATION: US
STATE: MT
NW_QUAD_CORNER_XY: 636266.89000 5060816.83500
NE_QUAD_CORNER_XY: 641133.52900 5060925.12900
SE_QUAD_CORNERY_XY: 641290.67100 5053981.44500
SW_QUAD_CORNER_XY: 636418.61100 5053873.14500
SECONDARY_NW_QUAD_XY: 636270.97300 5060599.12800
SECONDARY_NE_QUAD_XY: 641137.75800 5060707.42600
SECONDARY_SE_QUAD_XY: 641294.89900 5053763.78900
SECONDARY_SW_QUAD_XY: 636422.69300 5053655.48600
RMSE_XY: 1.30000
IMAGE_SOURCE: BLACK AND WHITE FILM
SOURCE_IMAGE_ID: NAPP 9153 12
SOURCE_IMAGE_DATE: 1997 08 28
SOURCE_DEM_DATE: 1956 00 00
AGENCY: WESTERN MAPPING CENTER (WMC)
PRODUCER: ANALYTICAL SURVEYS INC.
PRODUCTION_SYSTEM: ORBIT OR_RECTIFY V.5.2
COMPRESSION: UNDEFINED
STANDARD_VERSION: 1996 12
METADATA_DATE: 2000 12 09
DATA_FILE_SIZE: 43781700
BYTE_COUNT: 5700
