FILENAME: O4510923.NES.1123055.tif
QUADRANGLE_NAME: COLUMBUS EAST
QUADRANT: NE
WEST_LONGITUDE: -109 11 15.00000
EAST_LONGITUDE: -109 7 30.00000
NORTH_LATITUDE: 45 45 0.00000
SOUTH_LATITUDE: 45 41 15.00000
PRODUCTION_DATE: 2000 11 30
RASTER_ORDER: LEFT_RIGHT/TOP_BOTTOM
BAND_ORGANIZATION: SINGLE FILE
BAND_CONTENT: BLACK&WHITE
BAND_CONTENT: UNDEFINED
BAND_CONTENT: UNDEFINED
BITS_PER_PIXEL: 8
SAMPLES_AND_LINES: 5700 7680
HORIZONTAL_DATUM: NAD83
HORIZONTAL_COORDINATE_SYSTEM: UTM
COORDINATE_ZONE: 12
HORIZONTAL_UNITS: METERS
HORIZONTAL_RESOLUTION: 1.00000
SECONDARY_HORIZONTAL_DATUM: NAD27
XY_ORIGIN: 640620.00000 5068290.00000
SECONDARY_XY_ORIGIN: 640679.74600 5068080.22700
NATION: US
STATE: MT
NW_QUAD_CORNER_XY: 640976.21700 5067868.88200
NE_QUAD_CORNER_XY: 645837.42400 5067980.97300
SE_QUAD_CORNERY_XY: 646000.16300 5061037.22600
SW_QUAD_CORNER_XY: 641133.52900 5060925.12900
SECONDARY_NW_QUAD_XY: 640980.44700 5067651.13300
SECONDARY_NE_QUAD_XY: 645841.80000 5067763.22700
SECONDARY_SE_QUAD_XY: 646004.53800 5060819.52600
SECONDARY_SW_QUAD_XY: 641137.75800 5060707.42600
RMSE_XY: 1.50000
IMAGE_SOURCE: BLACK AND WHITE FILM
SOURCE_IMAGE_ID: NAPP 9160 144
SOURCE_IMAGE_DATE: 1997 09 23
SOURCE_IMAGE_ID: NAPP 9139 175
SOURCE_IMAGE_DATE: 1996 08 26
SOURCE_DEM_DATE: 1956 00 00
AGENCY: WESTERN MAPPING CENTER (WMC)
PRODUCER: ANALYTICAL SURVEYS INC.
PRODUCTION_SYSTEM: ORBIT OR_RECTIFY V.5.2
COMPRESSION: UNDEFINED
STANDARD_VERSION: 1996 12
METADATA_DATE: 2000 12 09
DATA_FILE_SIZE: 43781700
BYTE_COUNT: 5700
