FILENAME: O4510926.NES.1145771.tif
QUADRANGLE_NAME: WILDCAT DRAW
QUADRANT: NE
WEST_LONGITUDE: -109 48 45.00000
EAST_LONGITUDE: -109 45 0.00000
NORTH_LATITUDE: 45 37 30.00000
SOUTH_LATITUDE: 45 33 45.00000
PRODUCTION_DATE: 2001 03 29
RASTER_ORDER: LEFT_RIGHT/TOP_BOTTOM
BAND_ORGANIZATION: SINGLE FILE
BAND_CONTENT: BLACK&WHITE
BAND_CONTENT: UNDEFINED
BAND_CONTENT: UNDEFINED
BITS_PER_PIXEL: 8
SAMPLES_AND_LINES: 5670 7680
HORIZONTAL_DATUM: NAD83
HORIZONTAL_COORDINATE_SYSTEM: UTM
COORDINATE_ZONE: 12
HORIZONTAL_UNITS: METERS
HORIZONTAL_RESOLUTION: 1.00000
SECONDARY_HORIZONTAL_DATUM: NAD27
XY_ORIGIN: 592200.00000 5053470.00000
SECONDARY_XY_ORIGIN: 592260.08400 5053259.96700
NATION: US
STATE: MT
NW_QUAD_CORNER_XY: 592569.93000 5053069.52300
NE_QUAD_CORNER_XY: 597442.01600 5053143.61000
SE_QUAD_CORNERY_XY: 597550.25500 5046199.96000
SW_QUAD_CORNER_XY: 592672.75600 5046125.86900
SECONDARY_NW_QUAD_XY: 592572.70000 5052851.84000
SECONDARY_NE_QUAD_XY: 597444.93200 5052925.92900
SECONDARY_SE_QUAD_XY: 597553.17000 5045982.32600
SECONDARY_SW_QUAD_XY: 592675.52500 5045908.23300
RMSE_XY: 3.16000
IMAGE_SOURCE: BLACK AND WHITE FILM
SOURCE_IMAGE_ID: NAPP 9150 177
SOURCE_IMAGE_DATE: 1996 09 11
SOURCE_IMAGE_ID: NAPP 9150 175
SOURCE_IMAGE_DATE: 1996 09 11
SOURCE_IMAGE_ID: NAPP 11012 82
SOURCE_IMAGE_DATE: 1998 08 25
SOURCE_DEM_DATE: 1993 00 00
AGENCY: WESTERN MAPPING CENTER (WMC)
PRODUCER: ANALYTICAL SURVEYS INC.
PRODUCTION_SYSTEM: ORBIT OR_RECTIFY V.5.2
COMPRESSION: UNDEFINED
STANDARD_VERSION: 1996 12
METADATA_DATE: 2001 04 04
DATA_FILE_SIZE: 43551270
BYTE_COUNT: 5670
