FILENAME: O4510927.SES.1122981.tif
QUADRANGLE_NAME: COW FACE HILL
QUADRANT: SE
WEST_LONGITUDE: -109 41 15.00000
EAST_LONGITUDE: -109 37 30.00000
NORTH_LATITUDE: 45 33 45.00000
SOUTH_LATITUDE: 45 30 0.00000
PRODUCTION_DATE: 2000 11 23
RASTER_ORDER: LEFT_RIGHT/TOP_BOTTOM
BAND_ORGANIZATION: SINGLE FILE
BAND_CONTENT: BLACK&WHITE
BAND_CONTENT: UNDEFINED
BAND_CONTENT: UNDEFINED
BITS_PER_PIXEL: 8
SAMPLES_AND_LINES: 5670 7650
HORIZONTAL_DATUM: NAD83
HORIZONTAL_COORDINATE_SYSTEM: UTM
COORDINATE_ZONE: 12
HORIZONTAL_UNITS: METERS
HORIZONTAL_RESOLUTION: 1.00000
SECONDARY_HORIZONTAL_DATUM: NAD27
XY_ORIGIN: 602070.00000 5046660.00000
SECONDARY_XY_ORIGIN: 602129.97700 5046449.84800
NATION: US
STATE: MT
NW_QUAD_CORNER_XY: 602427.75300 5046277.85100
NE_QUAD_CORNER_XY: 607305.24800 5046359.54300
SE_QUAD_CORNERY_XY: 607424.18700 5039415.97100
SW_QUAD_CORNER_XY: 602541.28300 5039334.27500
SECONDARY_NW_QUAD_XY: 602430.81400 5046060.21900
SECONDARY_NE_QUAD_XY: 607308.45500 5046141.91400
SECONDARY_SE_QUAD_XY: 607427.39200 5039198.39000
SECONDARY_SW_QUAD_XY: 602544.34300 5039116.69200
RMSE_XY: 2.31000
IMAGE_SOURCE: BLACK AND WHITE FILM
SOURCE_IMAGE_ID: NAPP 9150 72
SOURCE_IMAGE_DATE: 1996 09 11
SOURCE_IMAGE_ID: NAPP 9154 48
SOURCE_IMAGE_DATE: 1997 08 28
SOURCE_IMAGE_ID: NAPP 9150 61
SOURCE_IMAGE_DATE: 1996 09 11
SOURCE_DEM_DATE: 1955 00 00
AGENCY: WESTERN MAPPING CENTER (WMC)
PRODUCER: ANALYTICAL SURVEYS INC.
PRODUCTION_SYSTEM: ORBIT OR_RECTIFY V.5.2
COMPRESSION: UNDEFINED
STANDARD_VERSION: 1996 12
METADATA_DATE: 2000 12 12
DATA_FILE_SIZE: 43381170
BYTE_COUNT: 5670
