FILENAME: O4510927.NWS.1122980.tif
QUADRANGLE_NAME: COW FACE HILL
QUADRANT: NW
WEST_LONGITUDE: -109 45 0.00000
EAST_LONGITUDE: -109 41 15.00000
NORTH_LATITUDE: 45 37 30.00000
SOUTH_LATITUDE: 45 33 45.00000
PRODUCTION_DATE: 2000 11 23
RASTER_ORDER: LEFT_RIGHT/TOP_BOTTOM
BAND_ORGANIZATION: SINGLE FILE
BAND_CONTENT: BLACK&WHITE
BAND_CONTENT: UNDEFINED
BAND_CONTENT: UNDEFINED
BITS_PER_PIXEL: 8
SAMPLES_AND_LINES: 5670 7650
HORIZONTAL_DATUM: NAD83
HORIZONTAL_COORDINATE_SYSTEM: UTM
COORDINATE_ZONE: 12
HORIZONTAL_UNITS: METERS
HORIZONTAL_RESOLUTION: 1.00000
SECONDARY_HORIZONTAL_DATUM: NAD27
XY_ORIGIN: 597060.00000 5053530.00000
SECONDARY_XY_ORIGIN: 597120.10300 5053319.92400
NATION: US
STATE: MT
NW_QUAD_CORNER_XY: 597442.01600 5053143.61000
NE_QUAD_CORNER_XY: 602314.10000 5053221.49800
SE_QUAD_CORNERY_XY: 602427.75300 5046277.85100
SW_QUAD_CORNER_XY: 597550.25500 5046199.96000
SECONDARY_NW_QUAD_XY: 597444.93200 5052925.92900
SECONDARY_NE_QUAD_XY: 602317.16200 5053003.81900
SECONDARY_SE_QUAD_XY: 602430.81400 5046060.21900
SECONDARY_SW_QUAD_XY: 597553.17000 5045982.32600
RMSE_XY: 1.69000
IMAGE_SOURCE: BLACK AND WHITE FILM
SOURCE_IMAGE_ID: NAPP 9154 50
SOURCE_IMAGE_DATE: 1997 08 28
SOURCE_IMAGE_ID: NAPP 9150 74
SOURCE_IMAGE_DATE: 1996 09 11
SOURCE_IMAGE_ID: NAPP 9154 52
SOURCE_IMAGE_DATE: 1997 08 28
SOURCE_IMAGE_ID: NAPP 9154 48
SOURCE_IMAGE_DATE: 1997 08 28
SOURCE_DEM_DATE: 1955 00 00
AGENCY: WESTERN MAPPING CENTER (WMC)
PRODUCER: ANALYTICAL SURVEYS INC.
PRODUCTION_SYSTEM: ORBIT OR_RECTIFY V.5.2
COMPRESSION: UNDEFINED
STANDARD_VERSION: 1996 12
METADATA_DATE: 2000 11 27
DATA_FILE_SIZE: 43381170
BYTE_COUNT: 5670
