FILENAME: O4510928.SWS.1122986.tif
QUADRANGLE_NAME: SANDBORN CREEK
QUADRANT: SW
WEST_LONGITUDE: -109 37 30.00000
EAST_LONGITUDE: -109 33 45.00000
NORTH_LATITUDE: 45 33 45.00000
SOUTH_LATITUDE: 45 30 0.00000
PRODUCTION_DATE: 2000 11 23
RASTER_ORDER: LEFT_RIGHT/TOP_BOTTOM
BAND_ORGANIZATION: SINGLE FILE
BAND_CONTENT: BLACK&WHITE
BAND_CONTENT: UNDEFINED
BAND_CONTENT: UNDEFINED
BITS_PER_PIXEL: 8
SAMPLES_AND_LINES: 5700 7650
HORIZONTAL_DATUM: NAD83
HORIZONTAL_COORDINATE_SYSTEM: UTM
COORDINATE_ZONE: 12
HORIZONTAL_UNITS: METERS
HORIZONTAL_RESOLUTION: 1.00000
SECONDARY_HORIZONTAL_DATUM: NAD27
XY_ORIGIN: 606930.00000 5046750.00000
SECONDARY_XY_ORIGIN: 606989.96800 5046539.87200
NATION: US
STATE: MT
NW_QUAD_CORNER_XY: 607305.24800 5046359.54300
NE_QUAD_CORNER_XY: 612182.74100 5046445.03600
SE_QUAD_CORNERY_XY: 612307.08800 5039501.46700
SW_QUAD_CORNER_XY: 607424.18700 5039415.97100
SECONDARY_NW_QUAD_XY: 607308.45500 5046141.91400
SECONDARY_NE_QUAD_XY: 612186.09400 5046227.40900
SECONDARY_SE_QUAD_XY: 612310.44000 5039283.88900
SECONDARY_SW_QUAD_XY: 607427.39200 5039198.39000
RMSE_XY: 1.70000
IMAGE_SOURCE: BLACK AND WHITE FILM
SOURCE_IMAGE_ID: NAPP 9150 61
SOURCE_IMAGE_DATE: 1996 09 11
SOURCE_DEM_DATE: 1955 00 00
AGENCY: WESTERN MAPPING CENTER (WMC)
PRODUCER: ANALYTICAL SURVEYS INC.
PRODUCTION_SYSTEM: ORBIT OR_RECTIFY V.5.2
COMPRESSION: UNDEFINED
STANDARD_VERSION: 1996 12
METADATA_DATE: 2000 11 27
DATA_FILE_SIZE: 43610700
BYTE_COUNT: 5700
