FILENAME: O4510928.SES.1122985.tif
QUADRANGLE_NAME: SANDBORN CREEK
QUADRANT: SE
WEST_LONGITUDE: -109 33 45.00000
EAST_LONGITUDE: -109 30 0.00000
NORTH_LATITUDE: 45 33 45.00000
SOUTH_LATITUDE: 45 30 0.00000
PRODUCTION_DATE: 2000 11 23
RASTER_ORDER: LEFT_RIGHT/TOP_BOTTOM
BAND_ORGANIZATION: SINGLE FILE
BAND_CONTENT: BLACK&WHITE
BAND_CONTENT: UNDEFINED
BAND_CONTENT: UNDEFINED
BITS_PER_PIXEL: 8
SAMPLES_AND_LINES: 5670 7650
HORIZONTAL_DATUM: NAD83
HORIZONTAL_COORDINATE_SYSTEM: UTM
COORDINATE_ZONE: 12
HORIZONTAL_UNITS: METERS
HORIZONTAL_RESOLUTION: 1.00000
SECONDARY_HORIZONTAL_DATUM: NAD27
XY_ORIGIN: 611820.00000 5046840.00000
SECONDARY_XY_ORIGIN: 611879.95900 5046629.89600
NATION: US
STATE: MT
NW_QUAD_CORNER_XY: 612182.74100 5046445.03600
NE_QUAD_CORNER_XY: 617060.23200 5046534.33000
SE_QUAD_CORNERY_XY: 617189.98700 5039590.76500
SW_QUAD_CORNER_XY: 612307.08800 5039501.46700
SECONDARY_NW_QUAD_XY: 612186.09400 5046227.40900
SECONDARY_NE_QUAD_XY: 617063.73000 5046316.70600
SECONDARY_SE_QUAD_XY: 617193.48500 5039373.18900
SECONDARY_SW_QUAD_XY: 612310.44000 5039283.88900
RMSE_XY: 2.25000
IMAGE_SOURCE: BLACK AND WHITE FILM
SOURCE_IMAGE_ID: NAPP 9154 39
SOURCE_IMAGE_DATE: 1997 08 28
SOURCE_DEM_DATE: 1955 00 00
AGENCY: WESTERN MAPPING CENTER (WMC)
PRODUCER: ANALYTICAL SURVEYS INC.
PRODUCTION_SYSTEM: ORBIT OR_RECTIFY V.5.2
COMPRESSION: UNDEFINED
STANDARD_VERSION: 1996 12
METADATA_DATE: 2000 11 27
DATA_FILE_SIZE: 43381170
BYTE_COUNT: 5670
