FILENAME: O4510928.NWS.1122984.tif
QUADRANGLE_NAME: SANDBORN CREEK
QUADRANT: NW
WEST_LONGITUDE: -109 37 30.00000
EAST_LONGITUDE: -109 33 45.00000
NORTH_LATITUDE: 45 37 30.00000
SOUTH_LATITUDE: 45 33 45.00000
PRODUCTION_DATE: 2000 11 23
RASTER_ORDER: LEFT_RIGHT/TOP_BOTTOM
BAND_ORGANIZATION: SINGLE FILE
BAND_CONTENT: BLACK&WHITE
BAND_CONTENT: UNDEFINED
BAND_CONTENT: UNDEFINED
BITS_PER_PIXEL: 8
SAMPLES_AND_LINES: 5700 7680
HORIZONTAL_DATUM: NAD83
HORIZONTAL_COORDINATE_SYSTEM: UTM
COORDINATE_ZONE: 12
HORIZONTAL_UNITS: METERS
HORIZONTAL_RESOLUTION: 1.00000
SECONDARY_HORIZONTAL_DATUM: NAD27
XY_ORIGIN: 606810.00000 5053710.00000
SECONDARY_XY_ORIGIN: 606870.04800 5053499.95500
NATION: US
STATE: MT
NW_QUAD_CORNER_XY: 607186.18200 5053303.18700
NE_QUAD_CORNER_XY: 612058.26000 5053388.67700
SE_QUAD_CORNERY_XY: 612182.74100 5046445.03600
SW_QUAD_CORNER_XY: 607305.24800 5046359.54300
SECONDARY_NW_QUAD_XY: 607189.38900 5053085.51000
SECONDARY_NE_QUAD_XY: 612061.61300 5053171.00200
SECONDARY_SE_QUAD_XY: 612186.09400 5046227.40900
SECONDARY_SW_QUAD_XY: 607308.45500 5046141.91400
RMSE_XY: 2.14000
IMAGE_SOURCE: BLACK AND WHITE FILM
SOURCE_IMAGE_ID: NAPP 9150 59
SOURCE_IMAGE_DATE: 1996 09 11
SOURCE_IMAGE_ID: NAPP 9150 57
SOURCE_IMAGE_DATE: 1996 09 11
SOURCE_DEM_DATE: 1955 00 00
AGENCY: WESTERN MAPPING CENTER (WMC)
PRODUCER: ANALYTICAL SURVEYS INC.
PRODUCTION_SYSTEM: ORBIT OR_RECTIFY V.5.2
COMPRESSION: UNDEFINED
STANDARD_VERSION: 1996 12
METADATA_DATE: 2000 11 27
DATA_FILE_SIZE: 43781700
BYTE_COUNT: 5700
