FILENAME: e:\updates\vol010_q1_2001\tiles\O4510929.NES.tif
QUADRANGLE_NAME: ABSAROKEE
QUADRANT: NE
WEST_LONGITUDE: -109 26 15.00000
EAST_LONGITUDE: -109 22 30.00000
NORTH_LATITUDE: 45 37 30.00000
SOUTH_LATITUDE: 45 33 45.00000
PRODUCTION_DATE: 2000 11 23
RASTER_ORDER: LEFT_RIGHT/TOP_BOTTOM
BAND_ORGANIZATION: SINGLE FILE
BAND_CONTENT: BLACK&WHITE
BAND_CONTENT: UNDEFINED
BAND_CONTENT: UNDEFINED
BITS_PER_PIXEL: 8
SAMPLES_AND_LINES: 5700 7680
HORIZONTAL_DATUM: NAD83
HORIZONTAL_COORDINATE_SYSTEM: UTM
COORDINATE_ZONE: 12
HORIZONTAL_UNITS: METERS
HORIZONTAL_RESOLUTION: 1.00000
SECONDARY_HORIZONTAL_DATUM: NAD27
XY_ORIGIN: 621420.00000 5053980.00000
SECONDARY_XY_ORIGIN: 621479.94700 5053770.02000
NATION: US
STATE: MT
NW_QUAD_CORNER_XY: 621802.41000 5053571.05900
NE_QUAD_CORNER_XY: 626674.48000 5053667.95300
SE_QUAD_CORNERY_XY: 626815.20500 5046724.32400
SW_QUAD_CORNER_XY: 621937.72000 5046627.42600
SECONDARY_NW_QUAD_XY: 621806.05400 5053353.39100
SECONDARY_NE_QUAD_XY: 626678.27000 5053450.28700
SECONDARY_SE_QUAD_XY: 626818.99500 5046506.70600
SECONDARY_SW_QUAD_XY: 621941.36400 5046409.80500
RMSE_XY: 2.41000
IMAGE_SOURCE: BLACK AND WHITE FILM
SOURCE_IMAGE_ID: NAPP 9153 177
SOURCE_IMAGE_DATE: 1997 08 28
SOURCE_IMAGE_ID: NAPP 9136 109
SOURCE_IMAGE_DATE: 1996 09 10
SOURCE_IMAGE_ID: NAPP 9153 179
SOURCE_IMAGE_DATE: 1997 08 28
SOURCE_DEM_DATE: 1955 00 00
AGENCY: WESTERN MAPPING CENTER (WMC)
PRODUCER: ANALYTICAL SURVEYS INC.
PRODUCTION_SYSTEM: ORBIT OR_RECTIFY V.5.2
COMPRESSION: UNDEFINED
STANDARD_VERSION: 1996 12
METADATA_DATE: 2000 11 27
DATA_FILE_SIZE: 43781700
BYTE_COUNT: 5700
