FILENAME: O4510930.SWS.1123042.tif
QUADRANGLE_NAME: WHITEBIRD SCHOOL
QUADRANT: SW
WEST_LONGITUDE: -109 22 30.00000
EAST_LONGITUDE: -109 18 45.00000
NORTH_LATITUDE: 45 33 45.00000
SOUTH_LATITUDE: 45 30 0.00000
PRODUCTION_DATE: 2000 12 01
RASTER_ORDER: LEFT_RIGHT/TOP_BOTTOM
BAND_ORGANIZATION: SINGLE FILE
BAND_CONTENT: BLACK&WHITE
BAND_CONTENT: UNDEFINED
BAND_CONTENT: UNDEFINED
BITS_PER_PIXEL: 8
SAMPLES_AND_LINES: 5730 7680
HORIZONTAL_DATUM: NAD83
HORIZONTAL_COORDINATE_SYSTEM: UTM
COORDINATE_ZONE: 12
HORIZONTAL_UNITS: METERS
HORIZONTAL_RESOLUTION: 1.00000
SECONDARY_HORIZONTAL_DATUM: NAD27
XY_ORIGIN: 626430.00000 5047140.00000
SECONDARY_XY_ORIGIN: 626489.88900 5046929.95600
NATION: US
STATE: MT
NW_QUAD_CORNER_XY: 626815.20500 5046724.32400
NE_QUAD_CORNER_XY: 631692.68800 5046825.02400
SE_QUAD_CORNERY_XY: 631838.67200 5039881.46900
SW_QUAD_CORNER_XY: 626955.77900 5039780.76500
SECONDARY_NW_QUAD_XY: 626818.99500 5046506.70600
SECONDARY_NE_QUAD_XY: 631696.62300 5046607.40800
SECONDARY_SE_QUAD_XY: 631842.60600 5039663.90200
SECONDARY_SW_QUAD_XY: 626959.56800 5039563.19500
RMSE_XY: 1.71000
IMAGE_SOURCE: BLACK AND WHITE FILM
SOURCE_IMAGE_ID: NAPP 9149 36
SOURCE_IMAGE_DATE: 1996 09 02
SOURCE_DEM_DATE: 1955 00 00
AGENCY: WESTERN MAPPING CENTER (WMC)
PRODUCER: ANALYTICAL SURVEYS INC.
PRODUCTION_SYSTEM: ORBIT OR_RECTIFY V.5.2
COMPRESSION: UNDEFINED
STANDARD_VERSION: 1996 12
METADATA_DATE: 2000 12 05
DATA_FILE_SIZE: 44012130
BYTE_COUNT: 5730
