FILENAME: O4510931.NWS.1123044.tif
QUADRANGLE_NAME: SHANE RIDGE
QUADRANT: NW
WEST_LONGITUDE: -109 15 0.00000
EAST_LONGITUDE: -109 11 15.00000
NORTH_LATITUDE: 45 37 30.00000
SOUTH_LATITUDE: 45 33 45.00000
PRODUCTION_DATE: 2000 12 01
RASTER_ORDER: LEFT_RIGHT/TOP_BOTTOM
BAND_ORGANIZATION: SINGLE FILE
BAND_CONTENT: BLACK&WHITE
BAND_CONTENT: UNDEFINED
BAND_CONTENT: UNDEFINED
BITS_PER_PIXEL: 8
SAMPLES_AND_LINES: 5700 7710
HORIZONTAL_DATUM: NAD83
HORIZONTAL_COORDINATE_SYSTEM: UTM
COORDINATE_ZONE: 12
HORIZONTAL_UNITS: METERS
HORIZONTAL_RESOLUTION: 1.00000
SECONDARY_HORIZONTAL_DATUM: NAD27
XY_ORIGIN: 636060.00000 5054310.00000
SECONDARY_XY_ORIGIN: 636119.80700 5054100.09800
NATION: US
STATE: MT
NW_QUAD_CORNER_XY: 636418.61100 5053873.14500
NE_QUAD_CORNER_XY: 641290.67100 5053981.44500
SE_QUAD_CORNERY_XY: 641447.64500 5047037.83000
SW_QUAD_CORNER_XY: 636570.16800 5046929.52500
SECONDARY_NW_QUAD_XY: 636422.69300 5053655.48600
SECONDARY_NE_QUAD_XY: 641294.89900 5053763.78900
SECONDARY_SE_QUAD_XY: 641451.87100 5046820.22100
SECONDARY_SW_QUAD_XY: 636574.24900 5046711.91300
RMSE_XY: 1.29000
IMAGE_SOURCE: BLACK AND WHITE FILM
SOURCE_IMAGE_ID: NAPP 9153 10
SOURCE_IMAGE_DATE: 1997 08 28
SOURCE_IMAGE_ID: NAPP 9153 12
SOURCE_IMAGE_DATE: 1997 08 28
SOURCE_IMAGE_ID: NAPP 9153 8
SOURCE_IMAGE_DATE: 1997 08 28
SOURCE_IMAGE_ID: NAPP 9139 169
SOURCE_IMAGE_DATE: 1996 08 26
SOURCE_DEM_DATE: 1956 00 00
AGENCY: WESTERN MAPPING CENTER (WMC)
PRODUCER: ANALYTICAL SURVEYS INC.
PRODUCTION_SYSTEM: ORBIT OR_RECTIFY V.5.2
COMPRESSION: UNDEFINED
STANDARD_VERSION: 1996 12
METADATA_DATE: 2000 12 04
DATA_FILE_SIZE: 43952700
BYTE_COUNT: 5700
