FILENAME: O4510931.NES.1123043.tif
QUADRANGLE_NAME: SHANE RIDGE
QUADRANT: NE
WEST_LONGITUDE: -109 11 15.00000
EAST_LONGITUDE: -109 7 30.00000
NORTH_LATITUDE: 45 37 30.00000
SOUTH_LATITUDE: 45 33 45.00000
PRODUCTION_DATE: 2000 12 01
RASTER_ORDER: LEFT_RIGHT/TOP_BOTTOM
BAND_ORGANIZATION: SINGLE FILE
BAND_CONTENT: BLACK&WHITE
BAND_CONTENT: UNDEFINED
BAND_CONTENT: UNDEFINED
BITS_PER_PIXEL: 8
SAMPLES_AND_LINES: 5730 7680
HORIZONTAL_DATUM: NAD83
HORIZONTAL_COORDINATE_SYSTEM: UTM
COORDINATE_ZONE: 12
HORIZONTAL_UNITS: METERS
HORIZONTAL_RESOLUTION: 1.00000
SECONDARY_HORIZONTAL_DATUM: NAD27
XY_ORIGIN: 640920.00000 5054400.00000
SECONDARY_XY_ORIGIN: 640979.77900 5054190.03100
NATION: US
STATE: MT
NW_QUAD_CORNER_XY: 641290.67100 5053981.44500
NE_QUAD_CORNER_XY: 646162.72800 5054093.54700
SE_QUAD_CORNERY_XY: 646325.11800 5047149.93600
SW_QUAD_CORNER_XY: 641447.64500 5047037.83000
SECONDARY_NW_QUAD_XY: 641294.89900 5053763.78900
SECONDARY_NE_QUAD_XY: 646167.10200 5053875.89400
SECONDARY_SE_QUAD_XY: 646329.49100 5046932.33100
SECONDARY_SW_QUAD_XY: 641451.87100 5046820.22100
RMSE_XY: 1.02000
IMAGE_SOURCE: BLACK AND WHITE FILM
SOURCE_IMAGE_ID: NAPP 9139 169
SOURCE_IMAGE_DATE: 1996 08 26
SOURCE_IMAGE_ID: NAPP 9160 142
SOURCE_IMAGE_DATE: 1997 09 23
SOURCE_IMAGE_ID: NAPP 9129 134
SOURCE_IMAGE_DATE: 1996 07 27
SOURCE_IMAGE_ID: NAPP 9153 10
SOURCE_IMAGE_DATE: 1997 08 28
SOURCE_DEM_DATE: 1956 00 00
AGENCY: WESTERN MAPPING CENTER (WMC)
PRODUCER: ANALYTICAL SURVEYS INC.
PRODUCTION_SYSTEM: ORBIT OR_RECTIFY V.5.2
COMPRESSION: UNDEFINED
STANDARD_VERSION: 1996 12
METADATA_DATE: 2000 12 04
DATA_FILE_SIZE: 44012130
BYTE_COUNT: 5730
